BEGIN:VCALENDAR
VERSION:2.0
PRODID:-//האנגר 11 - ECPv4.9.10//NONSGML v1.0//EN
CALSCALE:GREGORIAN
METHOD:PUBLISH
X-WR-CALNAME:האנגר 11
X-ORIGINAL-URL:https://hangar11.co.il/events
X-WR-CALDESC:Events for האנגר 11
BEGIN:VTIMEZONE
TZID:Asia/Jerusalem
BEGIN:DAYLIGHT
TZOFFSETFROM:+0200
TZOFFSETTO:+0300
TZNAME:IDT
DTSTART:20190329T000000
END:DAYLIGHT
BEGIN:STANDARD
TZOFFSETFROM:+0300
TZOFFSETTO:+0200
TZNAME:IST
DTSTART:20191026T230000
END:STANDARD
END:VTIMEZONE
BEGIN:VEVENT
DTSTART;TZID=Asia/Jerusalem:20190421T103000
DTEND;TZID=Asia/Jerusalem:20190424T193000
DTSTAMP:20260420T055809
CREATED:20190320T112551Z
LAST-MODIFIED:20190330T174921Z
UID:3087-1555842600-1556134200@hangar11.co.il
SUMMARY:פסטיבל גיימרז 2019
DESCRIPTION:בליינים/יות וגיימרים/יות – זה הולך להיות החג הכי שמח שהיה לכם GAMERZ 2019\, פסטיבל הגיימינג\, הגאדג'טים והטכנולוגיה הגדול של ישראל יגיע אלינו גם השנה בחול המועד פסח\, להאנגר 11 המורחב בנמל ת"א\, יותר גדול\, יותר מתקדם ויותר עתידני ! \nהאירוע יתפרס על פני ארבעה ימים (21 עד 24 באפריל) ובמהלכו יוכלו המבקרים להיחשף לעולם הגיימינג המעניין ולשחק ולהתנסות בטכנולוגיה חדישה ופורצת דרך ממרחק אפס – כולל פריטים שעדיין לא יצאו לשוק אותם תוכלו למצוא רק אצלנו. \nבמסגרת האירועים יוקמו באירוע שלל מתחמים – ביניהם כאלה שיוקדש למשחקי קונסולה\, PC וסלולר \, מתחם מיוחד של רחפנים שבו ניתן יהיה להתנסות בהטסת רחפנים מתקדמים\, מתחם יוטיוברים וגיימרים\, מתחם משחקי אינדי של חברות פרטיות\, מתחמי VR מתקדמים בהם תוכלו להתנסות במשחקים העושים שימוש בטכנולוגיות המתקדמות ביותר\, וכן זירות שיתמקדו בספורט אלקטרוני במשחקים מובילים. בנוסף ייפתחו במקום דוכני מכירה שבהם ניתן יהיה להשיג משחקים\, ציוד קצה ומרצ'נדייז במחירים מיוחדים. \nבאירוע קיימים שני סבבים: \n\nסבב בוקר: 9:30 עד 13:30. פתיחת קופות 8:30\nסבב צהריים: 14:30 עד 18:30. פתיחת קופות 13:30\n\nכרטיס כניסה לפסטיבל גיימרז 2019 תקף רק ליום וסבב שנרכש. \n
URL:https://hangar11.co.il/events/event/%d7%a4%d7%a1%d7%98%d7%99%d7%91%d7%9c-%d7%92%d7%99%d7%99%d7%9e%d7%a8%d7%96-2019/
LOCATION:האנגר 11\, Israel
ATTACH;FMTTYPE=image/jpeg:https://hangar11.co.il/events/wp-content/uploads/2019/03/1000X715.jpg
GEO:32.0964756;34.7740091
END:VEVENT
END:VCALENDAR