BEGIN:VCALENDAR
VERSION:2.0
PRODID:-//האנגר 11 - ECPv4.9.10//NONSGML v1.0//EN
CALSCALE:GREGORIAN
METHOD:PUBLISH
X-WR-CALNAME:האנגר 11
X-ORIGINAL-URL:https://hangar11.co.il/events
X-WR-CALDESC:Events for האנגר 11
BEGIN:VTIMEZONE
TZID:Asia/Jerusalem
BEGIN:DAYLIGHT
TZOFFSETFROM:+0200
TZOFFSETTO:+0300
TZNAME:IDT
DTSTART:20190329T000000
END:DAYLIGHT
BEGIN:STANDARD
TZOFFSETFROM:+0300
TZOFFSETTO:+0200
TZNAME:IST
DTSTART:20191026T230000
END:STANDARD
END:VTIMEZONE
BEGIN:VEVENT
DTSTART;TZID=Asia/Jerusalem:20190424T103000
DTEND;TZID=Asia/Jerusalem:20190424T193000
DTSTAMP:20260419T232254
CREATED:20190320T114914Z
LAST-MODIFIED:20190320T114914Z
UID:3102-1556101800-1556134200@hangar11.co.il
SUMMARY:פסטיבל גיימרז 24.4.19
DESCRIPTION:
URL:https://hangar11.co.il/events/event/%d7%a4%d7%a1%d7%98%d7%99%d7%91%d7%9c-%d7%92%d7%99%d7%99%d7%9e%d7%a8%d7%96-24-4-19-2/
LOCATION:האנגר 11\, Israel
GEO:32.0964756;34.7740091
END:VEVENT
END:VCALENDAR