BEGIN:VCALENDAR
VERSION:2.0
PRODID:-//האנגר 11 - ECPv4.9.10//NONSGML v1.0//EN
CALSCALE:GREGORIAN
METHOD:PUBLISH
X-WR-CALNAME:האנגר 11
X-ORIGINAL-URL:https://hangar11.co.il/events
X-WR-CALDESC:Events for האנגר 11
BEGIN:VTIMEZONE
TZID:Asia/Jerusalem
BEGIN:DAYLIGHT
TZOFFSETFROM:+0200
TZOFFSETTO:+0300
TZNAME:IDT
DTSTART:20180323T000000
END:DAYLIGHT
BEGIN:STANDARD
TZOFFSETFROM:+0300
TZOFFSETTO:+0200
TZNAME:IST
DTSTART:20181027T230000
END:STANDARD
END:VTIMEZONE
BEGIN:VEVENT
DTSTART;TZID=Asia/Jerusalem:20181213T213000
DTEND;TZID=Asia/Jerusalem:20181213T213000
DTSTAMP:20260421T140523
CREATED:20181019T094940Z
LAST-MODIFIED:20181019T095801Z
UID:2667-1544736600-1544736600@hangar11.co.il
SUMMARY:פרופ' דן אריאלי וליאור סושרד - לראשונה על במה אחת!
DESCRIPTION:מה יקרה כשאמן החושים המפורסם ליאור סושרד יפגוש את המומחה העולמי לכלכלה התנהגותית פרופסור דן אריאלי?\nפרופ' דן אריאלי וליאור סושרד ייפגשו לראשונה על במה אחת בהאנגר 11 ת"א למופע שיטלטל לכם את חוט המחשבה.\n\n\nפרופסור דן אריאלי הוא פרופסור לכלכלה התנהגותית. הוא חבר סגל באוניברסיטת דיוק וכיהן כראש קבוצת מחקר ב-Media Lab במכון הטכנולוגי של מסצ׳וסטס. שניים מספריו הפכו במהרה לרבי-מכר ברשימת "הניו יורק טיימס" ותורגמו לעשרות שפות. \nליאור סושרד הוא אמן חושים ישראלי ומתמחה במנטליזם\, אמן בידור ומנחה ועידות וכנסים\, אשר במופעו משתמש בחמשת חושיו על מנת ליצור חוויה של החוש השישי עבור קהל הצופים\, בעזרת מיומנות לקריאת שפת גוף\, מניפולציה מחשבתית\, וסוגים של פאראפסיכולוגיה. \n\n
URL:https://hangar11.co.il/events/event/%d7%a4%d7%a8%d7%95%d7%a4-%d7%93%d7%9f-%d7%90%d7%a8%d7%99%d7%90%d7%9c%d7%99-%d7%95%d7%9c%d7%99%d7%90%d7%95%d7%a8-%d7%a1%d7%95%d7%a9%d7%a8%d7%93-%d7%9c%d7%a8%d7%90%d7%a9%d7%95%d7%a0%d7%94-%d7%a2-131218/
LOCATION:האנגר 11\, Israel
CATEGORIES:הרצאה
ATTACH;FMTTYPE=image/jpeg:https://hangar11.co.il/events/wp-content/uploads/2018/09/44115755_416559228874847_6593944851530645504_n.jpg
GEO:32.0964756;34.7740091
END:VEVENT
END:VCALENDAR