BEGIN:VCALENDAR
VERSION:2.0
PRODID:-//האנגר 11 - ECPv4.9.10//NONSGML v1.0//EN
CALSCALE:GREGORIAN
METHOD:PUBLISH
X-WR-CALNAME:האנגר 11
X-ORIGINAL-URL:https://hangar11.co.il/events
X-WR-CALDESC:Events for האנגר 11
BEGIN:VTIMEZONE
TZID:Asia/Jerusalem
BEGIN:DAYLIGHT
TZOFFSETFROM:+0200
TZOFFSETTO:+0300
TZNAME:IDT
DTSTART:20190329T000000
END:DAYLIGHT
BEGIN:STANDARD
TZOFFSETFROM:+0300
TZOFFSETTO:+0200
TZNAME:IST
DTSTART:20191026T230000
END:STANDARD
END:VTIMEZONE
BEGIN:VEVENT
DTSTART;TZID=Asia/Jerusalem:20191005T220000
DTEND;TZID=Asia/Jerusalem:20191005T220000
DTSTAMP:20260419T200457
CREATED:20190916T093508Z
LAST-MODIFIED:20190916T093508Z
UID:3316-1570312800-1570312800@hangar11.co.il
SUMMARY:צחי בן ציון - ברלה
DESCRIPTION:
URL:https://hangar11.co.il/events/event/%d7%a6%d7%97%d7%99-%d7%91%d7%9f-%d7%a6%d7%99%d7%95%d7%9f-%d7%91%d7%a8%d7%9c%d7%94/
LOCATION:רחבי הארץ\, Israel
CATEGORIES:צחי בן ציון
ATTACH;FMTTYPE=image/jpeg:https://hangar11.co.il/events/wp-content/uploads/2018/04/צחי-בן-ציון-לאתר.jpg
END:VEVENT
END:VCALENDAR