BEGIN:VCALENDAR
VERSION:2.0
PRODID:-//האנגר 11 - ECPv4.9.10//NONSGML v1.0//EN
CALSCALE:GREGORIAN
METHOD:PUBLISH
X-WR-CALNAME:האנגר 11
X-ORIGINAL-URL:https://hangar11.co.il/events
X-WR-CALDESC:Events for האנגר 11
BEGIN:VTIMEZONE
TZID:Asia/Jerusalem
BEGIN:DAYLIGHT
TZOFFSETFROM:+0200
TZOFFSETTO:+0300
TZNAME:IDT
DTSTART:20200327T000000
END:DAYLIGHT
BEGIN:STANDARD
TZOFFSETFROM:+0300
TZOFFSETTO:+0200
TZNAME:IST
DTSTART:20201024T230000
END:STANDARD
END:VTIMEZONE
BEGIN:VEVENT
DTSTART;TZID=Asia/Jerusalem:20200205T080000
DTEND;TZID=Asia/Jerusalem:20200205T170000
DTSTAMP:20260420T114230
CREATED:20191222T090646Z
LAST-MODIFIED:20191222T090646Z
UID:3713-1580889600-1580922000@hangar11.co.il
SUMMARY:צחי בן ציון - כפר נהר הירדן
DESCRIPTION:
URL:https://hangar11.co.il/events/event/%d7%a6%d7%97%d7%99-%d7%91%d7%9f-%d7%a6%d7%99%d7%95%d7%9f-%d7%9b%d7%a4%d7%a8-%d7%a0%d7%94%d7%a8-%d7%94%d7%99%d7%a8%d7%93%d7%9f/
LOCATION:האנגר 11\, Israel
ATTACH;FMTTYPE=image/jpeg:https://hangar11.co.il/events/wp-content/uploads/2019/12/8ddfdcf8-339c-4d18-88e0-8313b2dba45a.jpg
GEO:32.0964756;34.7740091
END:VEVENT
END:VCALENDAR