BEGIN:VCALENDAR
VERSION:2.0
PRODID:-//האנגר 11 - ECPv4.9.10//NONSGML v1.0//EN
CALSCALE:GREGORIAN
METHOD:PUBLISH
X-WR-CALNAME:האנגר 11
X-ORIGINAL-URL:https://hangar11.co.il/events
X-WR-CALDESC:Events for האנגר 11
BEGIN:VTIMEZONE
TZID:Asia/Jerusalem
BEGIN:DAYLIGHT
TZOFFSETFROM:+0200
TZOFFSETTO:+0300
TZNAME:IDT
DTSTART:20240329T000000
END:DAYLIGHT
BEGIN:STANDARD
TZOFFSETFROM:+0300
TZOFFSETTO:+0200
TZNAME:IST
DTSTART:20241026T230000
END:STANDARD
END:VTIMEZONE
BEGIN:VEVENT
DTSTART;TZID=Asia/Jerusalem:20240725T203000
DTEND;TZID=Asia/Jerusalem:20240725T203000
DTSTAMP:20260419T141430
CREATED:20240721T113415Z
LAST-MODIFIED:20240721T144244Z
UID:6186-1721939400-1721939400@hangar11.co.il
SUMMARY:צחי בן ציון - סטנדאפ
DESCRIPTION:תושבי חולון והסביבה\, מופע הסטנדאפ של צחי בן ציון חוזר למסע הופעות עדכני אסור לכם לפספס…\nנדבר על זוגיות\, בינו לבינה\, חדרי המיטות\, ואיך להתמודד טוב יותר בסקס. אני אשתדל שגם תצאו עם ערך מוסף וגם לא תפסיקו לצחוק.\nאז אל תשכחו להזמין מקומות >>>> \n
URL:https://hangar11.co.il/events/event/%d7%a6%d7%97%d7%99-%d7%91%d7%9f-%d7%a6%d7%99%d7%95%d7%9f-%d7%a1%d7%98%d7%a0%d7%93%d7%90%d7%a4/
LOCATION:שטיינברג\, גבעת התחמושת 21\, חולון\, מרכז\, Israel
CATEGORIES:צחי בן ציון
ATTACH;FMTTYPE=image/jpeg:https://hangar11.co.il/events/wp-content/uploads/2024/07/WhatsApp-Image-2024-07-21-at-13.19.21.jpeg
END:VEVENT
END:VCALENDAR