BEGIN:VCALENDAR
VERSION:2.0
PRODID:-//האנגר 11 - ECPv4.9.10//NONSGML v1.0//EN
CALSCALE:GREGORIAN
METHOD:PUBLISH
X-WR-CALNAME:האנגר 11
X-ORIGINAL-URL:https://hangar11.co.il/events
X-WR-CALDESC:Events for האנגר 11
BEGIN:VTIMEZONE
TZID:Asia/Jerusalem
BEGIN:DAYLIGHT
TZOFFSETFROM:+0200
TZOFFSETTO:+0300
TZNAME:IDT
DTSTART:20250328T000000
END:DAYLIGHT
BEGIN:STANDARD
TZOFFSETFROM:+0300
TZOFFSETTO:+0200
TZNAME:IST
DTSTART:20251025T230000
END:STANDARD
END:VTIMEZONE
BEGIN:VEVENT
DTSTART;TZID=Asia/Jerusalem:20251119T210000
DTEND;TZID=Asia/Jerusalem:20251119T210000
DTSTAMP:20260420T053837
CREATED:20250908T084845Z
LAST-MODIFIED:20250908T084845Z
UID:6642-1763586000-1763586000@hangar11.co.il
SUMMARY:קווין ספייסי 19/11
DESCRIPTION:אלון יוריק הפקות מציגים: \nקווין ספייסי\, מהאמנים האייקונים של זמננו\, מגיע להופעה חד פעמית בישראל\nבמסגרת סיבוב הופעות בינלאומי חדש \nSONGS & STORIES\nKEVIN SPACEY – LIVE SHOW \n19 בנובמבר\, האנגר 11 תל אביב \nקווין ספייסי\, זוכה שני פרסי אוסקר ("החשוד המיידי"\, "אמריקן ביוטי")\, פרס גלובוס הזהב (הסדרה האייקונית "בית הקלפים"- נטפליקס) ועוד.. מגיע לישראל עם המופע החדש שלו – ממש עם צאתו לסיבוב הופעות בינלאומי חדש. \nזו הזדמנות נדירה לחוות את הכוכב ההוליוודי על הבמה\, בליווי להקת ג'אז עם ביצועים מפתיעים ללהיטים הנצחיים שהגדירו דור שלם. \nבין השירים\, הוא משתף סיפורים אישיים מחיי הקולנוע\, התיאטרון וכמובן מהחיים. וחושף את הקסם\, התובנה והכריזמה שהפכו אותו לתופעה על המסכים והבמות הגדולות ברחבי העולם. \nהקשר של ספייסי עם מדינת ישראל הוא אינו חדש\, הוא ביקר בישראל לפני מספר שנים ביקור פרטי. בנוסף הפתיע בביקור לא שגרתי בדצמבר בשנה שעברה- ביקור שזכה לסיקור תקשורתי יוצא דופן. ספייסי ריגש את הציבור הישראלי לאחר שביקר בישובים בעוטף עזה וכמו כן ביקר חיילים פצועים בבתי החולים בישראל. \nהופעותיו של ספייסי מזכירות את האלגנטיות של סינטרה והשנינות של דין מרטין.\nכשמאחוריו קריירת המשחק יוצאת דופן הוא מביא איתו לבמה קול ונוכחות מלאת כישרון ושנינות. \nמפיק המופע אלון יוריק: "אנו מאד נרגשים לארח את השחקן הנודע קווין ספייסי בישראל. ספייסי הוא ידיד אמת של ישראל והגעתו לישראל בתקופה הרגישה בה נמצאת החברה הישראלית הוא לגמרי לא עניין של מה בכך. לצד סירוב מאמנים בינלאומיים ואנשי תקשורת ותרבות רבים להגיע לישראל בתקופה זו\, ספייסי נענה לפנייתנו בחיוב ויגיע לחבק את הקהל הישראלי". \n
URL:https://hangar11.co.il/events/event/%d7%a7%d7%95%d7%95%d7%99%d7%9f-%d7%a1%d7%a4%d7%99%d7%99%d7%a1%d7%99-19-11/
LOCATION:האנגר 11\, Israel
CATEGORIES:מיינסטרים
ATTACH;FMTTYPE=image/jpeg:https://hangar11.co.il/events/wp-content/uploads/2025/09/תמונה-לאתר-האנגר.jpeg
GEO:32.0964756;34.7740091
END:VEVENT
END:VCALENDAR