BEGIN:VCALENDAR
VERSION:2.0
PRODID:-//האנגר 11 - ECPv4.9.10//NONSGML v1.0//EN
CALSCALE:GREGORIAN
METHOD:PUBLISH
X-WR-CALNAME:האנגר 11
X-ORIGINAL-URL:https://hangar11.co.il/events
X-WR-CALDESC:Events for האנגר 11
BEGIN:VTIMEZONE
TZID:Asia/Jerusalem
BEGIN:DAYLIGHT
TZOFFSETFROM:+0200
TZOFFSETTO:+0300
TZNAME:IDT
DTSTART:20200327T000000
END:DAYLIGHT
BEGIN:STANDARD
TZOFFSETFROM:+0300
TZOFFSETTO:+0200
TZNAME:IST
DTSTART:20201024T230000
END:STANDARD
END:VTIMEZONE
BEGIN:VEVENT
DTSTART;TZID=Asia/Jerusalem:20200118T210000
DTEND;TZID=Asia/Jerusalem:20200118T210000
DTSTAMP:20260420T133005
CREATED:20191118T091711Z
LAST-MODIFIED:20191228T153226Z
UID:3511-1579381200-1579381200@hangar11.co.il
SUMMARY:קרן פלס מארחת את שלום חנוך ומירי מסיקה
DESCRIPTION:במופע חגיגי במיוחד ועשיר מוזיקלית\, חוזרת קרן פלס אל אלבומה הראשון ״אם אלה החיים" איתו פרצה וביססה את מעמדה כאחת הזמרות והיוצרות הבולטות במדינה בעשור וחצי האחרונים. \nפלס\, זמרת-יוצרת ורסטילית שאינה מפסיקה ליצור לחדש ולהפתיע\, אשר פיתחה קריירה ענפה הן בכובע היוצרת אשר העניקה שירים מוכרים ואהובים לאמנים רבים אחרים ("ואת"\, "כל הציפורים" – הראל סקעת\, "לשם"\, "נובמבר" -מירי מסיקה\, "מי היה מאמין" – מארינה מקסימיליאן ובועז מעודה\, "שיר במקום ילדים" – אמיר דדון)\, הן בכובע היוצרת-שחקנית-מחזאית בתאטרון ובפרט ביצירה המוערכת בתאטרון הלאומי הבימה "לילה אחד באפריל"\, הן בטלוויזיה בשלל תוכניות בולטות ביניהן "הכוכב הבא לאירויזיון"\, "בית ספר למוזיקה" ובעיקר בתור זמרת ופרפורמרית אשר הכניסה לחיינו שירים רבים ומוכרים – מסינגל הבכורה שלה "איתי" אשר יצא ב2006\, דרך "אם אלה החיים"\, "שמעון השכן"\, "מבול"\, "לייק וואנקה" ועד "שקופים"\, "מעבר לנהר"\, "מי אני" מהשנה האחרונה. \nרגע לפני צאת אלבומה השביעי "שקופים"\, חוזרת פלס במסע מיוחד ומרגש לשנותיה הראשונות ועד שיריה האחרונים עם הרכב נגנים משובח שבנתה\, יחד עם אורחים מיוחדים: \nשלום חנוך – יוצר שהיווה השראה\, מוזה\, בשיתוף פעולה ראשון בין השניים בו יבצעו קלאסיקות עליהן גדלה קרן כילדה \nמירי מסיקה – חברתה הטובה\, אשר שרה את יצירותיה של קרן לראשונה ולה כתבה שירים רבים במהלך הדרך \n
URL:https://hangar11.co.il/events/event/%d7%a7%d7%a8%d7%9f-%d7%a4%d7%9c%d7%a1-%d7%9e%d7%90%d7%a8%d7%97%d7%aa-%d7%90%d7%aa-%d7%a9%d7%9c%d7%95%d7%9d-%d7%97%d7%a0%d7%95%d7%9a-%d7%95%d7%9e%d7%99%d7%a8%d7%99-%d7%9e%d7%a1%d7%99%d7%a7%d7%94/
LOCATION:האנגר 11\, Israel
CATEGORIES:גולדסטאר סאונד סיסטם,קרן פלס
ATTACH;FMTTYPE=image/jpeg:https://hangar11.co.il/events/wp-content/uploads/2019/11/show_pic19381_img_1.jpg
GEO:32.0964756;34.7740091
END:VEVENT
END:VCALENDAR