BEGIN:VCALENDAR
VERSION:2.0
PRODID:-//האנגר 11 - ECPv4.9.10//NONSGML v1.0//EN
CALSCALE:GREGORIAN
METHOD:PUBLISH
X-WR-CALNAME:האנגר 11
X-ORIGINAL-URL:https://hangar11.co.il/events
X-WR-CALDESC:Events for האנגר 11
BEGIN:VTIMEZONE
TZID:Asia/Jerusalem
BEGIN:DAYLIGHT
TZOFFSETFROM:+0200
TZOFFSETTO:+0300
TZNAME:IDT
DTSTART:20200327T000000
END:DAYLIGHT
BEGIN:STANDARD
TZOFFSETFROM:+0300
TZOFFSETTO:+0200
TZNAME:IST
DTSTART:20201024T230000
END:STANDARD
END:VTIMEZONE
BEGIN:VEVENT
DTSTART;TZID=Asia/Jerusalem:20200208T223000
DTEND;TZID=Asia/Jerusalem:20200208T223000
DTSTAMP:20260422T100609
CREATED:20191118T093628Z
LAST-MODIFIED:20191223T102130Z
UID:3545-1581201000-1581201000@hangar11.co.il
SUMMARY:רביד פלוטניק (נצ'י נצ') מארח את ברי סחרוף
DESCRIPTION:רביד פלוטניק הידוע בכינויו נצ'י נצ'\, מגיע לפסטיבל גולדסטאר סאונדסיסטם לחגוג את אלבומו החדש  'ועכשיו לחלק האומנותי' \, עם אורחים מיוחדים ונגנים אורחים. \nרביד הוא אחד הראפרים והיוצרים המוכרים ואהובים בארץ\, אמן שצמח מהשטח וחרש במות במשך שנים\, עם המנוני הופעות וקהל מאמינים אדוק במועדונים קטנים ונידחים\, שהלכו ותפחו בממדים עם כל אלבום. \nהמוסיקה שלו משלבת חומרים אישיים ואפלים עם אמירות נוקבות ופורצות דרך. בזכות הרבה הומור\, ביקורתיות\, עומק וכריזמה בימתית היה רביד לאחד מהקולות והפרפורמרים הבולטים במוסיקה הישראלית. \nעד היום הוציא פלוטניק חמישה אלבומים. האלבום החדש "ועכשיו לחלק האמנותי" והחמישי במספר הושק בחודש יולי 2019 בשתי הופעות באמפי שוני להן אזלו כל הכרטיסים מראש. \nאלבום מלא וטרי אותו רביד ניהל אמנותית לצד ישי סוויסה\, היוצא לראשונה תחת שמו המלא\, ללא מעטה הכינוי הפופולרי שדבק בו מאז הימים הראשונים בפתח-תקווה. האלבום החדש כולל שירים בהפקתם של ניר דנן\, טונה\, יאיא כהן אהרונוב\, ישי סוויסה ועוד סימפולים של אהוד בנאי ודודו טסה\, אירוח של ג'ימבו ג'יי וסימה נון \, ואותה רוח שורשית נצ'ית מוכרת ואהובה שנמצאת איפשהו בין קנדריק למאר\, דמיאן מארלי ואריס סאן. \n
URL:https://hangar11.co.il/events/event/%d7%a8%d7%91%d7%99%d7%93-%d7%a4%d7%9c%d7%95%d7%98%d7%a0%d7%99%d7%a7-%d7%9e%d7%90%d7%a8%d7%97-%d7%90%d7%aa-%d7%91%d7%a8%d7%99-%d7%a1%d7%97%d7%a8%d7%95%d7%a3/
LOCATION:האנגר 11\, Israel
CATEGORIES:גולדסטאר סאונד סיסטם,מיינסטרים
ATTACH;FMTTYPE=image/jpeg:https://hangar11.co.il/events/wp-content/uploads/2019/11/show_pic19389_img_2.jpg
GEO:32.0964756;34.7740091
END:VEVENT
END:VCALENDAR