BEGIN:VCALENDAR
VERSION:2.0
PRODID:-//האנגר 11 - ECPv4.9.10//NONSGML v1.0//EN
CALSCALE:GREGORIAN
METHOD:PUBLISH
X-WR-CALNAME:האנגר 11
X-ORIGINAL-URL:https://hangar11.co.il/events
X-WR-CALDESC:Events for האנגר 11
BEGIN:VTIMEZONE
TZID:Asia/Jerusalem
BEGIN:DAYLIGHT
TZOFFSETFROM:+0200
TZOFFSETTO:+0300
TZNAME:IDT
DTSTART:20170324T000000
END:DAYLIGHT
BEGIN:STANDARD
TZOFFSETFROM:+0300
TZOFFSETTO:+0200
TZNAME:IST
DTSTART:20171028T230000
END:STANDARD
END:VTIMEZONE
BEGIN:VEVENT
DTSTART;TZID=Asia/Jerusalem:20170918T230000
DTEND;TZID=Asia/Jerusalem:20170918T230000
DTSTAMP:20260420T050934
CREATED:20170706T083612Z
LAST-MODIFIED:20170912T094850Z
UID:1247-1505775600-1505775600@hangar11.co.il
SUMMARY:רותם כהן
DESCRIPTION:רותם כהן בהאנגר 11\, במופע קונספט יחודי "HAVANA SOL REPUBLIC" שנבנה במיוחד בעבור הערב המיוחד. \nההאנגר 11 כמו שלא ראיתם. \nיחד הם יבצעו את "כל כך יפה לך" \nאו בשמו הלטיני "COMO EL AGUA"\, להיט שטח הנמצא בראש המצעדים בישראל ובקובה. יבוצעו גם הלהיטים BAILANDO\, SUBEME LA RADIO ועוד. \nכל זאת לצד הופעה מהודקת עם להקת נגנים מדוייקת ולהיטים מכל אלבומיו. \n  \nרותם כהן מזמין את הקהל שלו למסע לקובה\, בדרך להפוך לאחד מהאמנים הישראלים הגדולים ביותר. \n  \nמופע זה הוא חלק מסיבוב הופעות נרחב שכולל הופעות בזאפה תל אביב\, זאפה הרצליה\, זאפה אמפי שוני וזאפה חיפה. בהמשך הסיבוב יגיע כהן גם לתיאטרון הצפון\, משכן באר שבע\, אמפי ראש הנקרה ועוד. \n
URL:https://hangar11.co.il/events/event/%d7%a8%d7%95%d7%aa%d7%9d-%d7%9b%d7%94%d7%9f/
LOCATION:האנגר 11\, Israel
ATTACH;FMTTYPE=image/jpeg:https://hangar11.co.il/events/wp-content/uploads/2017/07/רותם-כהן.jpg
GEO:32.0964756;34.7740091
END:VEVENT
END:VCALENDAR