BEGIN:VCALENDAR
VERSION:2.0
PRODID:-//האנגר 11 - ECPv4.9.10//NONSGML v1.0//EN
CALSCALE:GREGORIAN
METHOD:PUBLISH
X-WR-CALNAME:האנגר 11
X-ORIGINAL-URL:https://hangar11.co.il/events
X-WR-CALDESC:Events for האנגר 11
BEGIN:VTIMEZONE
TZID:Asia/Jerusalem
BEGIN:DAYLIGHT
TZOFFSETFROM:+0200
TZOFFSETTO:+0300
TZNAME:IDT
DTSTART:20250328T000000
END:DAYLIGHT
BEGIN:STANDARD
TZOFFSETFROM:+0300
TZOFFSETTO:+0200
TZNAME:IST
DTSTART:20251025T230000
END:STANDARD
END:VTIMEZONE
BEGIN:VEVENT
DTSTART;TZID=Asia/Jerusalem:20250205T213000
DTEND;TZID=Asia/Jerusalem:20250205T213000
DTSTAMP:20260421T210200
CREATED:20241204T084054Z
LAST-MODIFIED:20241209T151743Z
UID:6316-1738791000-1738791000@hangar11.co.il
SUMMARY:רמי קלינשטיין – מופע פסנתר
DESCRIPTION:זמר\, יוצר ומלחין מהמוכשרים והמובילים בישראל. כתב והלחין עשרות להיטי ענק\, לעצמו ולאחרים. שיריו הפכו להמנונים בכל בית והם פורטים על מיתרי הלב של כל אחד ואחת מאיתנו. במופע שלו\, רמי מעביר את הקהל מסע מרגש ומרומם\, דרך המילים והלחנים המוכרים והאהובים\, יחד עם אישיותו והופעתו הכובשת והמהפנטת.\nבין השירים במופע: "צעיר לנצח"\, "מתנות קטנות"\, "קר שם בחוץ"\, "בוא הביתה"\, "על הגשר הישן"\, "שיר אהובת הספן"\, "עניין של זמן"\, "תפוחים ותמרים"\, "קרוב אל ליבך"\, "אש"\, "עוד לא תמו כל פלאייך"\, "הניחי לי"\, "אהביני". \n
URL:https://hangar11.co.il/events/event/%d7%a8%d7%9e%d7%99-%d7%a7%d7%9c%d7%99%d7%a0%d7%a9%d7%98%d7%99%d7%99%d7%9f-%d7%9e%d7%95%d7%a4%d7%a2-%d7%a4%d7%a1%d7%a0%d7%aa%d7%a8/
LOCATION:האנגר 11\, Israel
CATEGORIES:מיינסטרים
ATTACH;FMTTYPE=image/jpeg:https://hangar11.co.il/events/wp-content/uploads/2024/12/רמי-.jpg
GEO:32.0964756;34.7740091
END:VEVENT
END:VCALENDAR