BEGIN:VCALENDAR
VERSION:2.0
PRODID:-//האנגר 11 - ECPv4.9.10//NONSGML v1.0//EN
CALSCALE:GREGORIAN
METHOD:PUBLISH
X-WR-CALNAME:האנגר 11
X-ORIGINAL-URL:https://hangar11.co.il/events
X-WR-CALDESC:Events for האנגר 11
BEGIN:VTIMEZONE
TZID:Asia/Jerusalem
BEGIN:DAYLIGHT
TZOFFSETFROM:+0200
TZOFFSETTO:+0300
TZNAME:IDT
DTSTART:20160325T000000
END:DAYLIGHT
BEGIN:STANDARD
TZOFFSETFROM:+0300
TZOFFSETTO:+0200
TZNAME:IST
DTSTART:20161029T230000
END:STANDARD
END:VTIMEZONE
BEGIN:VEVENT
DTSTART;TZID=Asia/Jerusalem:20160418T200000
DTEND;TZID=Asia/Jerusalem:20160418T200000
DTSTAMP:20260419T202649
CREATED:20151229T224700Z
LAST-MODIFIED:20170209T074533Z
UID:606-1461009600-1461009600@hangar11.co.il
SUMMARY:מוש בן ארי וגיא ויהל למען ילדי שמחה לילד
DESCRIPTION:מופע ההתרמה השנתי למען עמותת שמחה לילד – חוזר! \nבפעם השלישית\, עמותת שמחה לילד תקיים את מופע ההתרמה השנתי שלה בהאנגר 11 ולכם יש הזדמנות להגיע ולתרום לפעילות העמותה בזמן שאתם נהנים מהופעות מעולות. \nמופע מרכזי: מוש בן ארי. \nמופע שני: גיא ויהל. \nהנחיה: האחת והיחידה\, שני כהן. \nפתיחת דלתות: 19:00. \nועכשיו מכירה מוקדמת במחירים מוזלים – מהרו לרכוש כרטיסים \nההכנסות מהמופע קודש למען פעילות עמותת שמחה לילד. \n
URL:https://hangar11.co.il/events/event/%d7%a9%d7%9e%d7%97%d7%94-%d7%9c%d7%99%d7%9c%d7%93-%d7%94%d7%90%d7%99%d7%a8%d7%95%d7%a2-%d7%94%d7%a9%d7%a0%d7%aa%d7%99-%d7%9e%d7%95%d7%a9-%d7%91%d7%9f-%d7%90%d7%a8%d7%99-%d7%95%d7%92%d7%99%d7%90/
LOCATION:favicon
ATTACH;FMTTYPE=image/jpeg:https://hangar11.co.il/events/wp-content/uploads/2015/12/6x9-01-e1486626317470.jpg
END:VEVENT
END:VCALENDAR