BEGIN:VCALENDAR
VERSION:2.0
PRODID:-//האנגר 11 - ECPv4.9.10//NONSGML v1.0//EN
CALSCALE:GREGORIAN
METHOD:PUBLISH
X-WR-CALNAME:האנגר 11
X-ORIGINAL-URL:https://hangar11.co.il/events
X-WR-CALDESC:Events for האנגר 11
BEGIN:VTIMEZONE
TZID:Asia/Jerusalem
BEGIN:DAYLIGHT
TZOFFSETFROM:+0200
TZOFFSETTO:+0300
TZNAME:IDT
DTSTART:20190329T000000
END:DAYLIGHT
BEGIN:STANDARD
TZOFFSETFROM:+0300
TZOFFSETTO:+0200
TZNAME:IST
DTSTART:20191026T230000
END:STANDARD
END:VTIMEZONE
BEGIN:VEVENT
DTSTART;TZID=Asia/Jerusalem:20190403T213000
DTEND;TZID=Asia/Jerusalem:20190403T213000
DTSTAMP:20260420T180854
CREATED:20190206T130422Z
LAST-MODIFIED:20190223T190917Z
UID:2944-1554327000-1554327000@hangar11.co.il
SUMMARY:אברהם טל - מופע התרמה לשמחה לילד
DESCRIPTION:אברהם טל \nמופע התרמה למען ילדי שמחה לילד \nבהנחיית גלית גוטמן \n  \nיום רביעי 3.4.19 \nהאנגר 11\, נמל תל אביב \n  \nפתיחת שערים: 19:30\, תחילת המופע: 20:30 \n  \nההכנסות קודש עבור ילדי שמחה לילד. עמותת שמחה לילד מעניקה למאות ילדים חולים ובני משפחותיהם שמחה\, תקווה ואמונה ביכולת ובזכות שלהם לחיות ולממש את עצמם. בעזרתכם נמשיך לפעול ולעשות. \n
URL:https://hangar11.co.il/events/event/%d7%a9%d7%9e%d7%97%d7%94-%d7%9c%d7%99%d7%9c%d7%93-2019/
LOCATION:האנגר 11\, Israel
CATEGORIES:אירוע התרמה,מיינסטרים,פופ ישראלי
ATTACH;FMTTYPE=image/jpeg:https://hangar11.co.il/events/wp-content/uploads/2019/02/15956_sl_banner-eventer-1000x715.jpg
GEO:32.0964756;34.7740091
END:VEVENT
END:VCALENDAR