BEGIN:VCALENDAR
VERSION:2.0
PRODID:-//האנגר 11 - ECPv4.9.10//NONSGML v1.0//EN
CALSCALE:GREGORIAN
METHOD:PUBLISH
X-WR-CALNAME:האנגר 11
X-ORIGINAL-URL:https://hangar11.co.il/events
X-WR-CALDESC:Events for האנגר 11
BEGIN:VTIMEZONE
TZID:Asia/Jerusalem
BEGIN:DAYLIGHT
TZOFFSETFROM:+0200
TZOFFSETTO:+0300
TZNAME:IDT
DTSTART:20150327T000000
END:DAYLIGHT
BEGIN:STANDARD
TZOFFSETFROM:+0300
TZOFFSETTO:+0200
TZNAME:IST
DTSTART:20151024T230000
END:STANDARD
END:VTIMEZONE
BEGIN:VEVENT
DTSTART;TZID=Asia/Jerusalem:20151107T200000
DTEND;TZID=Asia/Jerusalem:20151107T160000
DTSTAMP:20260420T230301
CREATED:20151016T082854Z
LAST-MODIFIED:20151016T082854Z
UID:583-1446926400-1446912000@hangar11.co.il
SUMMARY:שמעון בוסקילה מארח את מירי מסיקה
DESCRIPTION:בארבע השנים האחרונות\, ובמקביל למופע המצליח עם שירי מימון\, שכבש כל פסגה אפשרית\, עבד בוסקילה\nעל האלבום החדש שמתוכו הסינגלים שכבשו את מצעדי ההשמעות "עכשיו אני חוזר"\, ו"למה לי\, למה לך" עם\nהמקצב המרוקאי המדבק. \nעם יציאת אלבומו "למה לי" יוצא בוסקילה לראשונה במופע סולו חדש. במופע הקהל יוכל להתרפק על השירים\nהיפים שלו ביניהם : "את המחר שלי"\, "מינהאר לי משיטי" (יא מאמא) ושירים שכתב או הלחין לאחרים כגון:\n"הייתי בגן עדן"\, "עד סוף העולם"\, "כמה אהבה"\, "עלש" ועוד רבים וטובים. \nאת המופע החדש והמושקע בהפקתו המוזיקלית של עמית הראל ילוו שורה של נגנים שישלבו גם כלים מסורתיים\,\nוזמרי ליווי. המופע חוצה גילאים ונגיש לכל אוזן ולב. \n
URL:https://hangar11.co.il/events/event/%d7%a9%d7%9e%d7%a2%d7%95%d7%9f-%d7%91%d7%95%d7%a1%d7%a7%d7%99%d7%9c%d7%94-%d7%9e%d7%90%d7%a8%d7%97-%d7%90%d7%aa-%d7%9e%d7%99%d7%a8%d7%99-%d7%9e%d7%a1%d7%99%d7%a7%d7%94/
LOCATION:favicon
ATTACH;FMTTYPE=:
END:VEVENT
END:VCALENDAR