BEGIN:VCALENDAR
VERSION:2.0
PRODID:-//האנגר 11 - ECPv4.9.10//NONSGML v1.0//EN
CALSCALE:GREGORIAN
METHOD:PUBLISH
X-WR-CALNAME:האנגר 11
X-ORIGINAL-URL:https://hangar11.co.il/events
X-WR-CALDESC:Events for האנגר 11
BEGIN:VTIMEZONE
TZID:Asia/Jerusalem
BEGIN:DAYLIGHT
TZOFFSETFROM:+0200
TZOFFSETTO:+0300
TZNAME:IDT
DTSTART:20160325T000000
END:DAYLIGHT
BEGIN:STANDARD
TZOFFSETFROM:+0300
TZOFFSETTO:+0200
TZNAME:IST
DTSTART:20161029T230000
END:STANDARD
END:VTIMEZONE
BEGIN:VEVENT
DTSTART;VALUE=DATE:20160415
DTEND;VALUE=DATE:20161027
DTSTAMP:20260419T171603
CREATED:20160322T100634Z
LAST-MODIFIED:20160322T100634Z
UID:622-1460696400-1477457999@hangar11.co.il
SUMMARY:תערוכת דאלי נמל תל אביב - טלפון לכרטיסים 2207*
DESCRIPTION:תערוכת "דאלי בנמל ת"א" \nלראשונה יגיע לישראל אוסף ובו מאות יצירות מקוריות של סלבדור דאלי שלא הוצגו מעולם בישראל! \n"דאלי בנמל"\, 15.04.16-25.10.16\, האנגר 11\, נמל ת"א \n  \nסלבדור דאלי\, אחד האמנים הפוריים ביותר במאה העשרים ומזוהה עם הזרם הסוריאליסטי. אישיותו המוזרה\, המקורית\, החושפנית והמוחצנת תרמה לפרסומו לא פחות מהדימויים המסקרנים שלו. ביצירותיו הבלתי שגרתיות של דאלי\, בולט צירוף של תמונות חלום ביזאריות ומלאות דמיון\, המצוירות בכישרון ומיומנות רבה ומושפעות מאמני הרנסאנס הגדולים כמו גם מתורתו של זיגמונד פרויד. דאלי היה אמן רב כישרון ודמיון\, יצירתו השתלבה באופיו האקסצנטרי והתיאטרלי והשפיעה רבות על אמנות המאה העשרים והמאה העשרים ואחת בציור\, פיסול\, צילום וקולנוע. דאלי הלך לעולמו ב-1989 ונחשב עד היום לאחד האמנים האהובים ביותר בעולם. \n  \nתערוכת "דאלי בנמל" היא שילוב נדיר של תערוכה ייחודית וחוויה תרבותית לקהל\, מאות יצירות מקוריות של סלבדור דאלי שיוצגו בשטח של מעל 1100 מ"ר– ציורים\, פסלים\, רישומים\, תכשיטים וצילומים שלא הוצגו מעולם בישראל. התערוכה מאפשרת הצצה אל תוך ראשו ועולמו של אחד האמנים הבולטים בעת החדשה– אמן שהצהיר על עצמו "הסוריאליזם– זה אני". \n  \nביקור בתערוכת "דאלי בנמל" יאפשר צלילה אל תוך העולם הקסום שברא סלבדור דאלי ביצירתו– עולם המשלב את החלומי והמטורף\, הסימבולי והמיתולוגי– עולם שמתכתב עם המציאות ומשנה אותה בדרכו הפרובוקטיבית\, הייחודית ולעתים ההומוריסטית של האומן- עיניים\, שעונים\, ביצים\, שפמים ופילים\, מוזות\, גן עדן וגיהינום\, חלום וטירוף\, מודעות יתר ותת מודע.\nבמקביל לתצוגה המרתקת של יצירות מקור תאפשר התערוכה התנסות אינטראקטיבית של מציאות מדומה\, המספקת למציאות רובד נוסף- עם הקרנות אינטראקטיביות\, קטעי סרטים ואנימציות. מימד זה של חוויה וידע הופך את התערוכה לחוויה ייחודית וחד פעמית– ומעל לכל\, הזדמנות נדירה להציץ אל מעבר למציאות– אל חייו ויצירתו של גאון… \n  \n  \nשעות פעילות התערוכה: ימים א'-ה'\, שבת 10:00-21:00\, יום ו'- 10:00-15:00.\nמחירון: מחיר מלא- 79 ₪\,  1+1 לאומי קארד ואמריקן אקספרס. \n  \nרכישת כרטיסים: קופת תל אביב- 2207*  www.2207.co.il \n  \nחברת הפקה : גלים הפקות \n
URL:https://hangar11.co.il/events/event/%d7%aa%d7%a2%d7%a8%d7%95%d7%9b%d7%aa-%d7%93%d7%90%d7%9c%d7%99-%d7%a0%d7%9e%d7%9c-%d7%aa%d7%9c-%d7%90%d7%91%d7%99%d7%91/
LOCATION:אולם האנגר קלאב – מתחם האנגר 11\, אולם הפדרציה\, נמל תל אביב\, תל אביב
ATTACH;FMTTYPE=:
GEO:32.0964825;34.7732737
X-APPLE-STRUCTURED-LOCATION;VALUE=URI;X-ADDRESS=אולם האנגר קלאב – מתחם האנגר 11 אולם הפדרציה נמל תל אביב תל אביב;X-APPLE-RADIUS=500;X-TITLE=אולם הפדרציה\, נמל תל אביב:geo:34.7732737,32.0964825
END:VEVENT
END:VCALENDAR