BEGIN:VCALENDAR
VERSION:2.0
PRODID:-//האנגר 11 - ECPv4.9.10//NONSGML v1.0//EN
CALSCALE:GREGORIAN
METHOD:PUBLISH
X-WR-CALNAME:האנגר 11
X-ORIGINAL-URL:https://hangar11.co.il/events
X-WR-CALDESC:Events for האנגר 11
BEGIN:VTIMEZONE
TZID:Asia/Jerusalem
BEGIN:DAYLIGHT
TZOFFSETFROM:+0200
TZOFFSETTO:+0300
TZNAME:IDT
DTSTART:20170324T000000
END:DAYLIGHT
BEGIN:STANDARD
TZOFFSETFROM:+0300
TZOFFSETTO:+0200
TZNAME:IST
DTSTART:20171028T230000
END:STANDARD
END:VTIMEZONE
BEGIN:VEVENT
DTSTART;VALUE=DATE:20170806
DTEND;VALUE=DATE:20170902
DTSTAMP:20260420T024317
CREATED:20170619T143706Z
LAST-MODIFIED:20170814T070550Z
UID:1228-1501981200-1504227599@hangar11.co.il
SUMMARY:תערוכת ממלכת הדינוזאורים
DESCRIPTION:היישר מדרום אמריקה\, מגיעה לנמל תל אביב תערוכת דינוזאורים בגודל אמיתי!\nבחודש אוגוסט הקרוב\, יגיעו להאנגר 11 בנמל תל-אביב עשרות דינוזאורים בגודל אמיתי לתערוכת ענק! בואו להכיר את הדינוזאורים מקרוב\, להצטלם איתם\, ללמוד עליהן ולהתהלך לידם. \nהתערוכה משתרעת על פני 2\,500 מטר מרובע הכוללים מסלול הליכה וצפייה בדינוזאורים בגודל אמיתי ברחבי הג'ונגל\, ואזור אינטראקטיבי לכל המשפחה בו יתאפשר לרכב על גורי דינוזאורים\, לטפס על חבלים\, להצטלם עם דינוזאורים\, לצייר\, לצבוע ולשחק ב"להיות ארכיאולוגים" תוך חפירה וחיפוש העתקי מאובנים. \nהדינוזאורים זזים\, משמיעים קולות\, מגיבים לסביבה וממש נושמים!\nחודש אוגוסט בהאנגר 11 \nלפרטים נוספים היכנסו לאתר התערוכה: dinos.co.il\n
URL:https://hangar11.co.il/events/event/%d7%aa%d7%a2%d7%a8%d7%95%d7%9b%d7%aa-%d7%9e%d7%9e%d7%9c%d7%9b%d7%aa-%d7%94%d7%93%d7%99%d7%a0%d7%95%d7%96%d7%90%d7%95%d7%a8%d7%99%d7%9d/
LOCATION:האנגר 11\, Israel
ATTACH;FMTTYPE=image/jpeg:https://hangar11.co.il/events/wp-content/uploads/2017/06/גרפיקה-לוגו-סופי.jpg
GEO:32.0964756;34.7740091
END:VEVENT
END:VCALENDAR