BEGIN:VCALENDAR
VERSION:2.0
PRODID:-//האנגר 11 - ECPv4.9.10//NONSGML v1.0//EN
CALSCALE:GREGORIAN
METHOD:PUBLISH
X-WR-CALNAME:האנגר 11
X-ORIGINAL-URL:https://hangar11.co.il/events
X-WR-CALDESC:Events for האנגר 11
BEGIN:VTIMEZONE
TZID:Asia/Jerusalem
BEGIN:DAYLIGHT
TZOFFSETFROM:+0200
TZOFFSETTO:+0300
TZNAME:IDT
DTSTART:20160325T000000
END:DAYLIGHT
BEGIN:STANDARD
TZOFFSETFROM:+0300
TZOFFSETTO:+0200
TZNAME:IST
DTSTART:20161029T230000
END:STANDARD
END:VTIMEZONE
BEGIN:VEVENT
DTSTART;VALUE=DATE:20160605
DTEND;VALUE=DATE:20160607
DTSTAMP:20260420T055347
CREATED:20160605T133956Z
LAST-MODIFIED:20160605T133956Z
UID:631-1465102800-1465189199@hangar11.co.il
SUMMARY:תצוגת אופנה של בוגרי המרכז האקדמי ויצ"ו חיפה
DESCRIPTION:המחלקה לעיצוב אופנה גאה להציג:\n☆☆ תצוגת אופנה בוגרים 2016!! ☆☆ \nבתצוגת האופנה השנתית יוצגו הקולקציות של בוגרי המחלקה לעיצוב אופנה לשנת 2016 \nיום שלישי | 21.6.16 | האנגר 11\, תל אביב \n☆☆☆☆☆☆☆☆\nלרכישת כרטיסים:\n04-8562537 מיכל 15:00-09:00\n1-800-770-990 אחרי 15:00 \nמהרו להזמין כרטיסים! מספר המקומות מוגבל! \n  \n
URL:https://hangar11.co.il/events/event/%d7%aa%d7%a6%d7%95%d7%92%d7%aa-%d7%90%d7%95%d7%a4%d7%a0%d7%94-%d7%a9%d7%9c-%d7%91%d7%95%d7%92%d7%a8%d7%99-%d7%94%d7%9e%d7%a8%d7%9b%d7%96-%d7%94%d7%90%d7%a7%d7%93%d7%9e%d7%99-%d7%95%d7%99%d7%a6%d7%95-2/
LOCATION:favicon
ATTACH;FMTTYPE=:
END:VEVENT
END:VCALENDAR