BEGIN:VCALENDAR
VERSION:2.0
PRODID:-//האנגר 11 - ECPv4.9.10//NONSGML v1.0//EN
CALSCALE:GREGORIAN
METHOD:PUBLISH
X-WR-CALNAME:האנגר 11
X-ORIGINAL-URL:https://hangar11.co.il/events
X-WR-CALDESC:Events for האנגר 11
BEGIN:VTIMEZONE
TZID:Asia/Jerusalem
BEGIN:DAYLIGHT
TZOFFSETFROM:+0200
TZOFFSETTO:+0300
TZNAME:IDT
DTSTART:20190329T000000
END:DAYLIGHT
BEGIN:STANDARD
TZOFFSETFROM:+0300
TZOFFSETTO:+0200
TZNAME:IST
DTSTART:20191026T230000
END:STANDARD
END:VTIMEZONE
BEGIN:VEVENT
DTSTART;TZID=Asia/Jerusalem:20190311T160000
DTEND;TZID=Asia/Jerusalem:20190311T173000
DTSTAMP:20260421T051231
CREATED:20190220T082838Z
LAST-MODIFIED:20190220T130237Z
UID:2978-1552320000-1552325400@hangar11.co.il
SUMMARY:16:00 שנקר Shenkar
DESCRIPTION: \n
URL:https://hangar11.co.il/events/event/1600-%d7%a9%d7%a0%d7%a7%d7%a8-shenkar/
LOCATION:האנגר 11\, Israel
GEO:32.0964756;34.7740091
END:VEVENT
END:VCALENDAR