BEGIN:VCALENDAR
VERSION:2.0
PRODID:-//האנגר 11 - ECPv4.9.10//NONSGML v1.0//EN
CALSCALE:GREGORIAN
METHOD:PUBLISH
X-WR-CALNAME:האנגר 11
X-ORIGINAL-URL:https://hangar11.co.il/events
X-WR-CALDESC:Events for האנגר 11
BEGIN:VTIMEZONE
TZID:Asia/Jerusalem
BEGIN:DAYLIGHT
TZOFFSETFROM:+0200
TZOFFSETTO:+0300
TZNAME:IDT
DTSTART:20190329T000000
END:DAYLIGHT
BEGIN:STANDARD
TZOFFSETFROM:+0300
TZOFFSETTO:+0200
TZNAME:IST
DTSTART:20191026T230000
END:STANDARD
END:VTIMEZONE
BEGIN:VEVENT
DTSTART;TZID=Asia/Jerusalem:20190312T180000
DTEND;TZID=Asia/Jerusalem:20190312T193000
DTSTAMP:20260421T022748
CREATED:20190220T093431Z
LAST-MODIFIED:20190220T114253Z
UID:3005-1552413600-1552419000@hangar11.co.il
SUMMARY:18:00 עידן לרוס Idan Laros
DESCRIPTION: \n
URL:https://hangar11.co.il/events/event/1800-%d7%a2%d7%99%d7%93%d7%9f-%d7%9c%d7%a8%d7%95%d7%a1-idan-laros/
LOCATION:האנגר 11\, Israel
GEO:32.0964756;34.7740091
END:VEVENT
END:VCALENDAR