BEGIN:VCALENDAR
VERSION:2.0
PRODID:-//האנגר 11 - ECPv4.9.10//NONSGML v1.0//EN
CALSCALE:GREGORIAN
METHOD:PUBLISH
X-WR-CALNAME:האנגר 11
X-ORIGINAL-URL:https://hangar11.co.il/events
X-WR-CALDESC:Events for האנגר 11
BEGIN:VTIMEZONE
TZID:Asia/Jerusalem
BEGIN:DAYLIGHT
TZOFFSETFROM:+0200
TZOFFSETTO:+0300
TZNAME:IDT
DTSTART:20190329T000000
END:DAYLIGHT
BEGIN:STANDARD
TZOFFSETFROM:+0300
TZOFFSETTO:+0200
TZNAME:IST
DTSTART:20191026T230000
END:STANDARD
END:VTIMEZONE
BEGIN:VEVENT
DTSTART;TZID=Asia/Jerusalem:20190313T220000
DTEND;TZID=Asia/Jerusalem:20190313T233000
DTSTAMP:20260421T004510
CREATED:20190220T102958Z
LAST-MODIFIED:20190224T142153Z
UID:3033-1552514400-1552519800@hangar11.co.il
SUMMARY:22:00 ויוי בלאיש Victor Bellaish
DESCRIPTION: \n
URL:https://hangar11.co.il/events/event/2200-%d7%95%d7%99%d7%95%d7%99-%d7%91%d7%9c%d7%90%d7%99%d7%a9-victor-bellaish/
LOCATION:האנגר 11\, Israel
GEO:32.0964756;34.7740091
END:VEVENT
END:VCALENDAR