BEGIN:VCALENDAR
VERSION:2.0
PRODID:-//האנגר 11 - ECPv4.9.10//NONSGML v1.0//EN
CALSCALE:GREGORIAN
METHOD:PUBLISH
X-WR-CALNAME:האנגר 11
X-ORIGINAL-URL:https://hangar11.co.il/events
X-WR-CALDESC:Events for האנגר 11
BEGIN:VTIMEZONE
TZID:Asia/Jerusalem
BEGIN:DAYLIGHT
TZOFFSETFROM:+0200
TZOFFSETTO:+0300
TZNAME:IDT
DTSTART:20260327T000000
END:DAYLIGHT
BEGIN:STANDARD
TZOFFSETFROM:+0300
TZOFFSETTO:+0200
TZNAME:IST
DTSTART:20261024T230000
END:STANDARD
END:VTIMEZONE
BEGIN:VEVENT
DTSTART;TZID=Asia/Jerusalem:20260113T210000
DTEND;TZID=Asia/Jerusalem:20260113T210000
DTSTAMP:20260419T212946
CREATED:20251218T094549Z
LAST-MODIFIED:20251218T095154Z
UID:6727-1768338000-1768338000@hangar11.co.il
SUMMARY:ריטה LET'S DANCE
DESCRIPTION:ריטה במופע חדש – Let`s Dance ! \nמופע עמידה עם במה מרהיבה\, וידאו ארט\, dj-set בכניסת הקהל\, ובמרכז – ריטה שתיקח אתכם לטיול בעולמה. \nעם קרוב ל-40 שנות קריירה מהמצליחות שהיו פה\, ריטה לא מפסיקה לחדש\, להפתיע ולרגש והפעם עם  Let`s Dance- שיריה הגדולים שנוגעים בכל אחד ואחת מאיתנו באווירת מסיבה ועיבודים אלקטרוניים. \nעם הכריזמה הבלתי נגמרת והקול המרגש\, ריטה מבצעת במופע את להיטיה הגדולים:\nבוא\, עטוף ברחמים\, תפתח חלון\, לאלף נמר\, רגע פרטי\, שרה ברחובות\, מחול מטורף\,  Boom Boom Boom ועוד.. \nהפקה מוזיקלית: רמי קלינשטיין ואסי טל. \nריטה: "גם אחרי כמעט ארבעה עשורים תהליך עבודה על מופע חדש הוא תהליך מרתק עם תשוקה לברוא משהו שעדיין לא עשיתי. \nאחרי השנה הכל כך קשה הזו\, שהמפגשים עם כל קצוות העם יהיו חרוטים וצרובים בי\, אני יוצאת במופע אחר לגמרי\, שבו הקהל לא רק ישיר איתי\, אלא גם ירקוד איתי ונפורר קצת את הכאב והפחד ביחד. \nבעזרת רמי קלינשטיין ואסי טל הענקיים הלבשנו את השירים במעטפת אלקטרונית מרגשת. לקחת יצירה ובריאה חדשה ושונה זו הרפתקה מסעירה עבורי". \n
URL:https://hangar11.co.il/events/event/6727/
LOCATION:האנגר 11\, Israel
CATEGORIES:אוכל שתייה גבר אישה,אותנטי,ישראלי
ATTACH;FMTTYPE=image/jpeg:https://hangar11.co.il/events/wp-content/uploads/2025/12/ריטה-13.1.jpg
GEO:32.0964756;34.7740091
END:VEVENT
END:VCALENDAR