BEGIN:VCALENDAR
VERSION:2.0
PRODID:-//האנגר 11 - ECPv4.9.10//NONSGML v1.0//EN
CALSCALE:GREGORIAN
METHOD:PUBLISH
X-WR-CALNAME:האנגר 11
X-ORIGINAL-URL:https://hangar11.co.il/events
X-WR-CALDESC:Events for האנגר 11
BEGIN:VTIMEZONE
TZID:Asia/Jerusalem
BEGIN:DAYLIGHT
TZOFFSETFROM:+0200
TZOFFSETTO:+0300
TZNAME:IDT
DTSTART:20220325T000000
END:DAYLIGHT
BEGIN:STANDARD
TZOFFSETFROM:+0300
TZOFFSETTO:+0200
TZNAME:IST
DTSTART:20221029T230000
END:STANDARD
END:VTIMEZONE
BEGIN:VEVENT
DTSTART;TZID=Asia/Jerusalem:20221124T223000
DTEND;TZID=Asia/Jerusalem:20221124T223000
DTSTAMP:20260419T142414
CREATED:20220930T133248Z
LAST-MODIFIED:20221120T121843Z
UID:5096-1669329000-1669329000@hangar11.co.il
SUMMARY:מסיבת מנהרת הזמן עם ירון אשבל - רדיוס 100FM
DESCRIPTION:מסיבת מנהרת הזמן עם ירון אשבל רדיוס 100Fm שוב מגיעה להאנגר קלאב מבית ההאנגר 11 שבנמל תל אביב! (הכניסה מסביב להאנגר 11)\nאהבתם את המקום וגם אנחנו! מאוד ❤️\nאז הכינו את עצמכם לקרוע את הרחבה שם גם בחמישי הזה 24.11.22 משעה 22:30\nננגן את הלהיטים הגדולים של שנות ה80\, ה90 והדיסקו בפול ווליום שירעיד את הנמל ?\nשימו לב! המחיר במכירה המוקדמת 60₪ בלבד! בערב האירוע בקופה מחיר הכרטיס 70₪\nהבטיחו מקומכם מראש! נתראה \n
URL:https://hangar11.co.il/events/event/ashbel-22/
LOCATION:אולם האנגר קלאב – מתחם האנגר 11\, אולם הפדרציה\, נמל תל אביב\, תל אביב
CATEGORIES:מיינסטרים,מסיבה,פופ ישראלי
ATTACH;FMTTYPE=image/jpeg:https://hangar11.co.il/events/wp-content/uploads/2022/09/ashbel2-e1668946705163.jpg
GEO:32.0964825;34.7732737
X-APPLE-STRUCTURED-LOCATION;VALUE=URI;X-ADDRESS=אולם האנגר קלאב – מתחם האנגר 11 אולם הפדרציה נמל תל אביב תל אביב;X-APPLE-RADIUS=500;X-TITLE=אולם הפדרציה\, נמל תל אביב:geo:34.7732737,32.0964825
END:VEVENT
END:VCALENDAR