BEGIN:VCALENDAR
VERSION:2.0
PRODID:-//האנגר 11 - ECPv4.9.10//NONSGML v1.0//EN
CALSCALE:GREGORIAN
METHOD:PUBLISH
X-WR-CALNAME:האנגר 11
X-ORIGINAL-URL:https://hangar11.co.il/events
X-WR-CALDESC:Events for האנגר 11
BEGIN:VTIMEZONE
TZID:Asia/Jerusalem
BEGIN:DAYLIGHT
TZOFFSETFROM:+0200
TZOFFSETTO:+0300
TZNAME:IDT
DTSTART:20220325T000000
END:DAYLIGHT
BEGIN:STANDARD
TZOFFSETFROM:+0300
TZOFFSETTO:+0200
TZNAME:IST
DTSTART:20221029T230000
END:STANDARD
END:VTIMEZONE
BEGIN:VEVENT
DTSTART;TZID=Asia/Jerusalem:20220904T100000
DTEND;TZID=Asia/Jerusalem:20220908T210000
DTSTAMP:20260419T153056
CREATED:20220904T130658Z
LAST-MODIFIED:20220905T103151Z
UID:5047-1662285600-1662670800@hangar11.co.il
SUMMARY:"קאזה ברזיל" ישראל  CASA BRASIL ISRAEL 2022
DESCRIPTION:\nhttps://hangar11.co.il/events/wp-content/uploads/2022/09/VIDEO-2022-09-04-14-34-18.mp4\nברזיל תציין 200 שנות עצמאות עם שורת אירועים בישראל במטרה לחגוג את החדשנות והרוח הברזילאיות ואת הקשרים החזקים בין ברזיל וישראל.\nאת "קאזה ברזיל" יוזמת סוכנות ApexBrasil שמטרתה לקדם את תדמיתה של ברזיל בעולם\, לקדם ייצוא מהמדינה ולמשוך אליה השקעות\, בשיתוף עם שגרירות ברזיל בישראל.\nהאירועים יתקיימו כחלק מיוזמת "קאזה ברזיל" שתארח יוזמות עסקיות\, הרצאות\, מיצגים תרבותיים ואטרקציות קולינאריות כחלק מחגיגות לציון הרפובליקה ותתקיים בין ה-4 ל-9 בספטמבר בהאנגר 11 בנמל תל-אביב.\nאירועי הקולינריה הברזילאים יתקיימו בהאנגר 11\nביום ראשון 4.9 – 19:00) עם "ריזוטו ברזילאי"\,\nבשני (5.9\, 14:00) יגלה דכטלברג את סודות המטבח של האמזונס\,\nבשלישי (6.9\, 19:00) הוא יקח אתכם איתו לממלכת השעועית של ברזיל\,\nברביעי (7.9\, 20:00) יתקין דכטלברג פאו די-קז'ו ("סערה טרופית בלחמניות גבינה עם ריבת אסאי ומנגו")\nבחמישי (8.9\, 19:00) יחגגו מאכלים ברזילאים מן הים\nובשישי (9.9\, 10:30) יסתיימו אירועי הקולינריה בשלל קינוחים ומשקאות כראוי.\nעוד יתקיימו במסגרת "קאזה ברזיל" גם אירוע אופנה\, תצוגת קפוארה ובנוסף הופעות מוזיקה בסגנונות ברזילאים ייחודיים במגוון ז'אנרים דוגמת ג'אז ברזילאי\, שורו\, בוסה נובה וסמבה.  \n(מערכת טיים אאוט) \n
URL:https://hangar11.co.il/events/event/casa-brasil-israel-2022/
LOCATION:האנגר 11\, יורדי הסירה 1\, תל אביב\, Israel
CATEGORIES:חו"ל,תערוכה
ATTACH;FMTTYPE=image/jpeg:https://hangar11.co.il/events/wp-content/uploads/2022/09/CasaBrasil2.jpeg
END:VEVENT
END:VCALENDAR