BEGIN:VCALENDAR
VERSION:2.0
PRODID:-//האנגר 11 - ECPv4.9.10//NONSGML v1.0//EN
CALSCALE:GREGORIAN
METHOD:PUBLISH
X-WR-CALNAME:האנגר 11
X-ORIGINAL-URL:https://hangar11.co.il/events
X-WR-CALDESC:Events for האנגר 11
BEGIN:VTIMEZONE
TZID:Asia/Jerusalem
BEGIN:DAYLIGHT
TZOFFSETFROM:+0200
TZOFFSETTO:+0300
TZNAME:IDT
DTSTART:20220325T000000
END:DAYLIGHT
BEGIN:STANDARD
TZOFFSETFROM:+0300
TZOFFSETTO:+0200
TZNAME:IST
DTSTART:20221029T230000
END:STANDARD
END:VTIMEZONE
BEGIN:VEVENT
DTSTART;TZID=Asia/Jerusalem:20220929T230000
DTEND;TZID=Asia/Jerusalem:20220930T110000
DTSTAMP:20260419T185830
CREATED:20220907T122915Z
LAST-MODIFIED:20220918T122002Z
UID:5063-1664492400-1664535600@hangar11.co.il
SUMMARY:CONFUSION - ROSH HASHANAH
DESCRIPTION:כשזה מתחיל זה מתחיל\, אתה שומע\, אתה רואה\, יש באז ודיבור סביב משהו\, לאט לאט אתה מתחיל לגבש דעה\, מקבל עוד פיסות מידע מגורמים שונים עד שיש לך חתיכה אחת שלמה בראש\, יש לך סיפור\,\nאנחנו פה כדי שתבין שזה התחיל ותחליט מתי תרצה להיות חלק מזה. זה תמיד מבלבל בהתחלה\, אבל מי אמר שקצת בלבול זה דבר רע.\nמסורות זה דבר שנבנה\, כמו רומא\, לא ביום אחד.\nמסורות זה דבר שאני מתאר אותו על זמני\, משהו שממזמן חילחל לתודעה\, משהו כיף\, משהו טוב שאני רוצה שיחזור ויקרה שוב ושוב והיום נתחיל במסורת.\nתפוח ודבש אנחנו כבר אוכלים\, את ה- hangarave\nנתחיל עכשיו.  \n
URL:https://hangar11.co.il/events/event/confusion-rosh-hashanah/
LOCATION:האנגר 11\, יורדי הסירה 1\, תל אביב\, Israel
CATEGORIES:מיינסטרים,מסיבה
ATTACH;FMTTYPE=image/jpeg:https://hangar11.co.il/events/wp-content/uploads/2022/09/600X1200-copy.jpg
END:VEVENT
END:VCALENDAR