BEGIN:VCALENDAR
VERSION:2.0
PRODID:-//האנגר 11 - ECPv4.9.10//NONSGML v1.0//EN
CALSCALE:GREGORIAN
METHOD:PUBLISH
X-WR-CALNAME:האנגר 11
X-ORIGINAL-URL:https://hangar11.co.il/events
X-WR-CALDESC:Events for האנגר 11
BEGIN:VTIMEZONE
TZID:Asia/Jerusalem
BEGIN:DAYLIGHT
TZOFFSETFROM:+0200
TZOFFSETTO:+0300
TZNAME:IDT
DTSTART:20160325T000000
END:DAYLIGHT
BEGIN:STANDARD
TZOFFSETFROM:+0300
TZOFFSETTO:+0200
TZNAME:IST
DTSTART:20161029T230000
END:STANDARD
END:VTIMEZONE
BEGIN:VEVENT
DTSTART;TZID=Asia/Jerusalem:20160410T203000
DTEND;TZID=Asia/Jerusalem:20160410T203000
DTSTAMP:20260419T233220
CREATED:20160218T191305Z
LAST-MODIFIED:20160218T191305Z
UID:613-1460320200-1460320200@hangar11.co.il
SUMMARY:Craig David TS5 – קרייג דיוויד
DESCRIPTION:נסיך ה-R&B קרייג דיוויד ומוביל את פרויקט ה-TS5\, מגיע לראשונה לישראל להופעת בוטיק חד פעמית בהאנגר 11 ת"א בפני 2\,000 איש בלבד! \n שימו לב! מחירים מיוחדים לרוכשים מאתר האנגר 11 – מהרו\, המלאי מוגבל! \nדיוויד יגיע לת"א להופעת בוטיק איכותית כחלק מפרויקט ה-TS5 הנחשב והנחשק ברחבי העולם\, בה הוא יופיע ויתקלט סטים המורכבים משילוב של "אולד סקול" לצד ""R&B ו-SWING \nראשון\, 10 באפריל 2016\, האנגר 11\, ת"א\, מספר כרטיסים מוגבל! \nהזמר\, יוצר ו-DJ קרייג דיוויד מגיע לישראל להופעת בוטיק חד פעמית במטרה לחשוף לקהל הישראלי את פרויקט ה-TS5 אשר התחיל כקונספט ייחודי במסיבות פרטיות שערך בביתו אשר במיאמי.אותן מסיבות ייצרו באז כחלק מהשיתוף של דיוויד עם העולם באמצעות הסאונד קלאוד והפרויקט החל לנוע היישר מביתו למועדונים ברחבי העולם: ג'נבה\, סרדיניה\, לונדון\, פריז ועוד. \nכבר בתחילת דרכו של קרייג דיוויד הוא ניהל סטים בעמדת ה-DJ במסיבות ובמועדונים ברחבי בריטניה ולכן העולם הזה אינו זר לו. קרייג זמר בינלאומי אשר הצליח למכור מעל 13 מיליון עותקים ואף זכה באלבומי פלטינה\, במצעדים בבריטניה וברחבי העולם וכך הגיע לחשיפה של יותר מ-20 מדינות בעולם. דיוויד חבר להקליט שירים עם מיטב הזמרים והיוצרים הנחשבים בעולם כמו: סטינג\, קאנו\, ריטה אורה\, ג'יי שון ועוד. \nמאז 2013 דיוויד יצא לטור הופעות בפורמט מיוחד כ-DJ.SETS במועדונים הגדולים שם הוא שר את כל להיטיו בלייב (צרפת\, איטליה\, מרוקו\, מוסקבה\, דרום קוריאה\, דובאי\, אוסטרליה\, איביזה) ועכשיו גם בישראל. המותג TS5 הפך למותג גלובלי ופופולארי אליו מאזינים מכל קצוות העולם. המופע הראשון החל בלונדון שם הכרטיסים אזלו תוך מס דק והגיעו לצפות אומנים מהשורה הראשונה כדי לתמוך בזמר וליהנות מהמסיבה הכי מבוקשת ומדוברת בבריטניה. \nבתאריך 10 לאפריל השנה יתקלט ויופיע קרייג דיוויד עם פרויקט ה-TS5 בהאנגר 11 ת"א\, זוהי הופעה ראשונה שלו בישראל והוא בחר להגביל את כמות הכרטיסים ל-2000 בלבד כדי ליצור אווירה "אינטימית" ונינוחה עם הקהל הישראלי. הופעה זו חשובה לליבו כחלק מהיותו יהודי בריטי וההתרגשות אצלו בשיאה. \nמחיר כרטיס: 405-704 שח \nמחירים מיוחדים לרוכשים באתר ההאנגר! \nכניסה למתחם VIP דרך שער נפרד \n
URL:https://hangar11.co.il/events/event/craig-david-ts5-%d7%a7%d7%a8%d7%99%d7%99%d7%92-%d7%93%d7%99%d7%95%d7%95%d7%99%d7%93/
LOCATION:favicon
ATTACH;FMTTYPE=:
END:VEVENT
END:VCALENDAR