BEGIN:VCALENDAR
VERSION:2.0
PRODID:-//האנגר 11 - ECPv4.9.10//NONSGML v1.0//EN
CALSCALE:GREGORIAN
METHOD:PUBLISH
X-WR-CALNAME:האנגר 11
X-ORIGINAL-URL:https://hangar11.co.il/events
X-WR-CALDESC:Events for האנגר 11
BEGIN:VTIMEZONE
TZID:Asia/Jerusalem
BEGIN:DAYLIGHT
TZOFFSETFROM:+0200
TZOFFSETTO:+0300
TZNAME:IDT
DTSTART:20190329T000000
END:DAYLIGHT
BEGIN:STANDARD
TZOFFSETFROM:+0300
TZOFFSETTO:+0200
TZNAME:IST
DTSTART:20191026T230000
END:STANDARD
END:VTIMEZONE
BEGIN:VEVENT
DTSTART;VALUE=DATE:20190511
DTEND;VALUE=DATE:20190520
DTSTAMP:20260419T212814
CREATED:20190421T190347Z
LAST-MODIFIED:20190507T142348Z
UID:3180-1557554400-1558245599@hangar11.co.il
SUMMARY:Euro Club
DESCRIPTION:Are You Ready for the Biggest and Most Glamorous \nEUROCLUB    EVER?! \n\nKAN & EBU are proud to introduce this years’ addition:\nThe EUROCLUB – the main and official party venue for 2019 Eurovision in Tel Aviv. \nThe EUROCLUB is located in the heart of the Tel-Aviv Port by the beach at Hangar 11\, the biggest club and multi-purpose venue in Israel. Hangar 11 is located just 2.5 km. from the contest venue\, and conveniently sits between the venue and all of the beach hotels. The two sites are adjacent to the same road and are connected by the Hayarkon Park. \nThe EUROCLUB events are spread over 8 nights from May 11th until 18th\, and will include special theme parties\, surprising live shows\, screenings of the Semi-Finals and Grand Final and more. Every night\, local DJs and DJs from all over Europe will be playing legendary Eurovision music. \nEurovision winners and well-known Eurovision artists from Europe and Israel will be performing live; special surprises will be filling the club with Eurovision atmosphere\, to include bars\, food trucks and many more. \n*A limited amount of bracelets for OGAE members available on a discounted early-bird price of 500 ILS. \nMay 11th – 23:00 – 04:00 \nMay 12th \,May 13th \, May 15th– 22:00 – 04:00 \nMay 14th \,May 18th – 21:30 – 06:00 \nMay 16th – 23:30 – 04:00 \nSpecial parties: \nOn May 11th\, the EUROCLUB will be hosting the Official Nordic Party\, including a DJ that will play Scandinavian Eurovision music from all times\, live shows of this year’s artists from Denmark\, Estonia\, Finland\, Iceland\, Norway\, Sweden and others. \nOn May 12th\, the EUROCLUB will be hosting the Official After Party of the Orange Carpet. \nOn May 18th\, the EUROCLUB will be hosting the Official After Party of the 2019 Eurovision Song contest. \nDebut list of the performing artists (the other artists will be announced accordingly): \nInternational artists:\nEmmelie De Forrest (Denmark 2013 – Eurovision Winner)\nLinda Martin (Ireland 1992 – Eurovision Winner)\nChrister Bjorkman (Sweden 1992)\nChiara (Malta 1998\, 2005\, 2009)\nElpida (Greece 1979\, Cyprus 1986)\nSunstroke Project (Moldova 2010\, 2017)\nTimebelle (Switzerland 2017)\nAnna Sahlene (Estonia 2002) \nIsraeli artists:\nLiora (1995)\nDafna Dekel (1992) \n  \nThe lineup is subject to change. \n
URL:https://hangar11.co.il/events/event/euro-club/
LOCATION:האנגר 11\, Israel
CATEGORIES:חו"ל,מיינסטרים,מסיבה
ATTACH;FMTTYPE=image/jpeg:https://hangar11.co.il/events/wp-content/uploads/2019/04/0421-EuroClub-H11.jpg
GEO:32.0964756;34.7740091
END:VEVENT
END:VCALENDAR