BEGIN:VCALENDAR
VERSION:2.0
PRODID:-//האנגר 11 - ECPv4.9.10//NONSGML v1.0//EN
CALSCALE:GREGORIAN
METHOD:PUBLISH
X-WR-CALNAME:האנגר 11
X-ORIGINAL-URL:https://hangar11.co.il/events
X-WR-CALDESC:Events for האנגר 11
BEGIN:VTIMEZONE
TZID:Asia/Jerusalem
BEGIN:DAYLIGHT
TZOFFSETFROM:+0200
TZOFFSETTO:+0300
TZNAME:IDT
DTSTART:20190329T000000
END:DAYLIGHT
BEGIN:STANDARD
TZOFFSETFROM:+0300
TZOFFSETTO:+0200
TZNAME:IST
DTSTART:20191026T230000
END:STANDARD
END:VTIMEZONE
BEGIN:VEVENT
DTSTART;VALUE=DATE:20190311
DTEND;VALUE=DATE:20190315
DTSTAMP:20260421T035414
CREATED:20190220T075018Z
LAST-MODIFIED:20190223T191823Z
UID:2952-1552280400-1552539599@hangar11.co.il
SUMMARY:FASHION WEEK TEL-AVIV
DESCRIPTION:שבוע האופנה תל אביב  2019 יוצא לדרך זו השנה השביעית \n  \nשבוע אופנה תל אביב יערך בתאריכים 11-13 למרץ 2019.   \nבכל יום יעלו על המסלול 7 תצוגות אופנה של מיטב מעצבי האופנה הישראלים\, הוותיקים והצעירים \n  \n
URL:https://hangar11.co.il/events/event/fashion-week-tel-aviv/
LOCATION:Israel
ATTACH;FMTTYPE=image/jpeg:https://hangar11.co.il/events/wp-content/uploads/2019/02/FWTA19_H11_01-1-1-e1550928785509.jpg
END:VEVENT
END:VCALENDAR