BEGIN:VCALENDAR
VERSION:2.0
PRODID:-//האנגר 11 - ECPv4.9.10//NONSGML v1.0//EN
CALSCALE:GREGORIAN
METHOD:PUBLISH
X-WR-CALNAME:האנגר 11
X-ORIGINAL-URL:https://hangar11.co.il/events
X-WR-CALDESC:Events for האנגר 11
BEGIN:VTIMEZONE
TZID:Asia/Jerusalem
BEGIN:DAYLIGHT
TZOFFSETFROM:+0200
TZOFFSETTO:+0300
TZNAME:IDT
DTSTART:20170324T000000
END:DAYLIGHT
BEGIN:STANDARD
TZOFFSETFROM:+0300
TZOFFSETTO:+0200
TZNAME:IST
DTSTART:20171028T230000
END:STANDARD
END:VTIMEZONE
BEGIN:VEVENT
DTSTART;TZID=Asia/Jerusalem:20170312T210000
DTEND;TZID=Asia/Jerusalem:20170312T210000
DTSTAMP:20260419T231630
CREATED:20170124T134555Z
LAST-MODIFIED:20170124T135948Z
UID:936-1489352400-1489352400@hangar11.co.il
SUMMARY:Fatboy Slim
DESCRIPTION:3a proudly presents:  \nFatboy Slim \nהגאון הבריטי שחתום על כמה מלהיטי העל של שנות ה 2000 בביקור ראשון בישראל ב 12/3 בהאנגר 11 \nמסיבת הפורים הכי טובה בתל אביב. \n\,בשנה האחרונה הוא בעיקר מתקלט מסביב לעולם\, מדטרויט\, דרך ווגאס ועד לסט בלתי נשכח על החומה הסינית\, דרך הופעות איצטדיונים ועד תיקלוט בבית האח הגדול ברזיל ומועדונים הנחשקים\, עכשיו הוא מגיע לראשונה גם לתל אביב. ההופעה היא שילוב של תיקלוט ומופע וידאו \nFatboy Slim\, הלא הוא נורמן קוק\, החל את דרכו בכלל כבסיסט ב The Housemartins\, להקת אינדי רוק בריטית שלא הותירה חותם משמעותי על תעשיית המוזיקה אבל הזניקה את הקריירה של אחד היוצרים\, המפיקים והתקליטנים המרתקים בדורו. ב 1989 פצח קוק בקריירת סולו עם השיר Blame it on the Bassline שהרקיע במצעדי השנה. משם הקים הרכב בשם Beats International שהוציא ב 1990 אלבום שכלל את הלהיט "Dub be Good to Me"\, אך אלבומה השני של הלהקה לא הצליח לשחזר את ההצלחה. הוא הקים את Freak Power עם נגן הקרן אשלי סלייטר והסולן ג׳סי גרהם\, אלבום הבכורה שלהם יצא ב 1994 ומתוכו "Turn On\, Turn In\, Cop Out" הצליח מאוד אחרי שכיכב בפרסומת של Levi's. ההרכב הוציא את אלבומו השני ב 96׳. \nב 95׳ התחיל לעבוד תחת שם הבמה Pizzaman והוציא אלבום של קטעי האוס שזכה להצלחה גדולה ושלושה משיריו הגיעו לצמרת המצעדים הבריטיים של השנה – Trippin' on Sunshine' Sex on the Streets ו Happiness. \nב 96׳  הוציא את האלבום "Better Living Through Chemistry" ששילב בין היתר סגנונות ומקצבים שונים משנות השישים והשבעים. השיר "Everybody Needs a 303" הגיע לצמרת המצעד הבריטי. \nשנת 98׳ היתה שנת הפריצה הענקית שלו כשהאלבום ״You've Come a Long Way Baby"  היה להצלחה עולמית מסחררת עם הלהיטים 1998 " "Right Here\, Right Now"\, "Praise You" ו-"Rockafeller Skank" שכבשו מצעדים ורכשו לו מעריצים ברחבי העולם. \nב 2000 יצא "Halfway Between the Gutter and the Stars" שהכיל שני שירים עם מייסי גריי ואת הלהיט "Weapon of Choice" שזכה להצלחה רבה בעיקר עם הוידאו קליפ המופתי שלו בכיכובו של כריסטופר ווקן שמפגין בו כישורי ריקוד מפתיעים. \nב 2013 הוציא את השיר "Eat Sleep Rave Repeat" שהצליח גם בגרסת המקור וגם ברמיקס שיצר לו קלווין האריס. ב 2014 יצא "Eparrei" עם Dimitri Vegas & Like Mike\, דיפלו\, בונדה דו רולה ופין\, ברמיקס של W&W. \nראשון\, 12/3 האנגר 11\, \nפתיחת דלתות: 16:00 \nחימום: 19:00 \nמופע: 21:00 \n\n
URL:https://hangar11.co.il/events/event/fatboy-slim/
LOCATION:האנגר 11\, Israel
ATTACH;FMTTYPE=image/jpeg:https://hangar11.co.il/events/wp-content/uploads/2017/01/open_3.jpg
GEO:32.0964756;34.7740091
END:VEVENT
END:VCALENDAR