BEGIN:VCALENDAR
VERSION:2.0
PRODID:-//האנגר 11 - ECPv4.9.10//NONSGML v1.0//EN
CALSCALE:GREGORIAN
METHOD:PUBLISH
X-WR-CALNAME:האנגר 11
X-ORIGINAL-URL:https://hangar11.co.il/events
X-WR-CALDESC:Events for האנגר 11
BEGIN:VTIMEZONE
TZID:Asia/Jerusalem
BEGIN:DAYLIGHT
TZOFFSETFROM:+0200
TZOFFSETTO:+0300
TZNAME:IDT
DTSTART:20220325T000000
END:DAYLIGHT
BEGIN:STANDARD
TZOFFSETFROM:+0300
TZOFFSETTO:+0200
TZNAME:IST
DTSTART:20221029T230000
END:STANDARD
END:VTIMEZONE
BEGIN:VEVENT
DTSTART;TZID=Asia/Jerusalem:20221015T223000
DTEND;TZID=Asia/Jerusalem:20221015T223000
DTSTAMP:20260419T143522
CREATED:20220919T142241Z
LAST-MODIFIED:20220919T142415Z
UID:5082-1665873000-1665873000@hangar11.co.il
SUMMARY:Forever Tel Aviv - 16th Anniversary - XXL
DESCRIPTION: ! Forever Tel Aviv 16th Anniversary XXL we do it bigger\n ! Our famous anniversary celebration\, is going to be larger than ever \n
URL:https://hangar11.co.il/events/event/forever-tel-aviv-16th-anniversary-xxl/
LOCATION:האנגר 11\, יורדי הסירה 1\, תל אביב\, Israel
CATEGORIES:מיינסטרים,מסיבה
ATTACH;FMTTYPE=image/jpeg:https://hangar11.co.il/events/wp-content/uploads/2022/09/FOREVER_Cover_1200x600.jpg
END:VEVENT
END:VCALENDAR