BEGIN:VCALENDAR
VERSION:2.0
PRODID:-//האנגר 11 - ECPv4.9.10//NONSGML v1.0//EN
CALSCALE:GREGORIAN
METHOD:PUBLISH
X-WR-CALNAME:האנגר 11
X-ORIGINAL-URL:https://hangar11.co.il/events
X-WR-CALDESC:Events for האנגר 11
BEGIN:VTIMEZONE
TZID:Asia/Jerusalem
BEGIN:DAYLIGHT
TZOFFSETFROM:+0200
TZOFFSETTO:+0300
TZNAME:IDT
DTSTART:20220325T000000
END:DAYLIGHT
BEGIN:STANDARD
TZOFFSETFROM:+0300
TZOFFSETTO:+0200
TZNAME:IST
DTSTART:20221029T230000
END:STANDARD
END:VTIMEZONE
BEGIN:VEVENT
DTSTART;TZID=Asia/Jerusalem:20221204T210000
DTEND;TZID=Asia/Jerusalem:20221204T210000
DTSTAMP:20260419T143628
CREATED:20221013T170428Z
LAST-MODIFIED:20221129T160326Z
UID:5108-1670187600-1670187600@hangar11.co.il
SUMMARY:FULL HAUS: Alyssa\, Shangela & Laganja
DESCRIPTION:FULL HAUS: Alyssa\, Shangela & Laganja\nלראשונה בישראל ולראשונה בעולם מזה 7 שנים ההאוס הכי גדול בעולם מתאחד לערב נוצץ ובלתי נשכח! ⭐\nאליסה אדווארדס\, שאנג'לה ולאגאנז'ה מגיעות לסגור לכם את השנה בתל אביב.\nבמופע מיוחד שהן מכינות עבור הקהל הישראלי מלא בנאמברים\, סטנד-אפ\, סיפורים מרגשים\, רקדנים\, וידיאו ארט ובעיקר להראות לכם את הקסם של ההאוס! ?\nאחרי שנים שלא הופיעו ביחד בחרו הבנות דווקא בתל אביב לעשות את מה שכל העולם כבר מזמן מבקש ולשים את ישראל על מפת הדראג העולמית.\nבנוסף יתקיים מופע פתיחה עם עשרות מופיעים שאנחנו לא יכולים עדיין לחשוף – אבל מה שכן אפשר להגיד – דבר כזה עוד לא ראיתם! ? \nיום ראשון\, 4.12.22 בהאנגר 11\, נמל תל אביב.\nלראשונה בוואן נייט אונלי אנחנו מקימים מופע עם מתחמים שונים: מתחם הגולדן רינג\, מתחם עמידה רגילה ו-2 מתחמי ישיבה (הישיבה לא מסומנת\, אך היא גבוהה משאר הקהל ומקנה צפייה מלאה על הבמה\, כרטיסי הישיבה מוגבלים בכמות).\nניתן לרכוש כרטיסי מיט אנד גריט גם ביחד עם גולדן וגם עם כרטיס ישיבה.\nכרטיס המיט אנד גריט מקנה: כניסה מוקדמת לאולם\, מפגש ותמונה משותפת עם ההאוס ותג למזכרת. \nכניסת קהל מיט אנד גריט: 19:00\nמפגש עם ההאוס: 19:15-20:15 (לא יתקבלו מאחרים)\nכניסת קהל רגיל: 20:00\nתחילת מופע: 21:00 \n*הכניסה מותרת לכל הגילאים | למקומות נגישים יש ליצור קשר עם ההפקה | המופע יצולם ויוקלט ויתכן שידורו בעתיד \n
URL:https://hangar11.co.il/events/event/full-haus-alyssa-shangela-laganja/
LOCATION:האנגר 11\, יורדי הסירה 1\, תל אביב\, Israel
CATEGORIES:חו"ל,מיינסטרים
ATTACH;FMTTYPE=image/jpeg:https://hangar11.co.il/events/wp-content/uploads/2022/10/HOE-1200_600.jpg
END:VEVENT
END:VCALENDAR