BEGIN:VCALENDAR
VERSION:2.0
PRODID:-//האנגר 11 - ECPv4.9.10//NONSGML v1.0//EN
CALSCALE:GREGORIAN
METHOD:PUBLISH
X-WR-CALNAME:האנגר 11
X-ORIGINAL-URL:https://hangar11.co.il/events
X-WR-CALDESC:Events for האנגר 11
BEGIN:VTIMEZONE
TZID:Asia/Jerusalem
BEGIN:DAYLIGHT
TZOFFSETFROM:+0200
TZOFFSETTO:+0300
TZNAME:IDT
DTSTART:20220325T000000
END:DAYLIGHT
BEGIN:STANDARD
TZOFFSETFROM:+0300
TZOFFSETTO:+0200
TZNAME:IST
DTSTART:20221029T230000
END:STANDARD
END:VTIMEZONE
BEGIN:VEVENT
DTSTART;TZID=Asia/Jerusalem:20221103T220000
DTEND;TZID=Asia/Jerusalem:20221103T220000
DTSTAMP:20260419T143436
CREATED:20221006T225415Z
LAST-MODIFIED:20221011T122812Z
UID:5104-1667512800-1667512800@hangar11.co.il
SUMMARY:KOROLOVA - HANGAR 11
DESCRIPTION:התקליטנית והמפיקה מקייב הרעידה את סצינת הטכנו הבינלאומית ומיצבה את עצמה בתור אחד מהכוכבים העולים המבטיחים והמוכשרים ביותר בעולם המוסיקה האלקטרונית.\nהטרקים שלה יוצאים תחת הלייבלים הטובים ביותר בעולם כמו AFTR:HRS\, GET PHYSICAL\,ו- ZEHN וחורכים את מצעדי ההורדות של אתר ביטפורט.\nהיא פגעה בול כבר בטראק הבכורה שלה והמוני מעריצים בכל רחבי העולם נשבו בקסם הייחודי של KOROLOVA כבר מהפעם הראשונה שהקשיבו לצלילים המקוריים והייחודיים שלה. \n
URL:https://hangar11.co.il/events/event/korolova-hangar-11/
LOCATION:האנגר 11\, יורדי הסירה 1\, תל אביב\, Israel
CATEGORIES:חו"ל,מיינסטרים
ATTACH;FMTTYPE=image/jpeg:https://hangar11.co.il/events/wp-content/uploads/2022/10/hangar-11.jpg
END:VEVENT
END:VCALENDAR