BEGIN:VCALENDAR
VERSION:2.0
PRODID:-//האנגר 11 - ECPv4.9.10//NONSGML v1.0//EN
CALSCALE:GREGORIAN
METHOD:PUBLISH
X-WR-CALNAME:האנגר 11
X-ORIGINAL-URL:https://hangar11.co.il/events
X-WR-CALDESC:Events for האנגר 11
BEGIN:VTIMEZONE
TZID:Asia/Jerusalem
BEGIN:DAYLIGHT
TZOFFSETFROM:+0200
TZOFFSETTO:+0300
TZNAME:IDT
DTSTART:20190329T000000
END:DAYLIGHT
BEGIN:STANDARD
TZOFFSETFROM:+0300
TZOFFSETTO:+0200
TZNAME:IST
DTSTART:20191026T230000
END:STANDARD
END:VTIMEZONE
BEGIN:VEVENT
DTSTART;TZID=Asia/Jerusalem:20191216T220000
DTEND;TZID=Asia/Jerusalem:20191216T233000
DTSTAMP:20260420T161906
CREATED:20191028T152233Z
LAST-MODIFIED:20191216T073550Z
UID:3418-1576533600-1576539000@hangar11.co.il
SUMMARY:K's Choice
DESCRIPTION:להקת הפופ – רוק הבלגית האהובה חוזרת לישראל \nאורחים מיוחדים: תום פטרובר ואורית שחף (היהודים) \nיש כמה מדינות שיש לנו קשר ייחודי איתן\, אבל זה שונה. זה נחמד להיות פופולרי בהולנד אבל זה במרחק 20 דקות נסיעה מהבית של ההורים שלי\, אז זה קצת פחות מסתורי בעינינו. להצליח להגיע כל כך רחוק לתרבות שכל כך מעניינת אותנו וכל כך זרה\, ואז שיהיה לך כזה בסיס מעריצים נאמן שם – זה מדהים. אנחנו נהנים בכל ביקור\, זה תמיד רגע שיא של השנה שלנו ודבר שאנחנו מחכים לו מאוד". \n– שרה בטנס מספרת על הקהל הישראלי. \nלאחר שמילאו עד אפס מקום את כל הופעותיהם הקודמות בישראל בתוך מספר ימים  K'S CHOICE להקת הפופ-רוק המצליחה\, שנחשבת לאחת הלהקות הגדולות בבלגיה\, תשוב לישראל  להופעה אחת בלבד בהאנגר 11 ב- 16.12.19. הלהקה תארח את תום פטרובר ואורית שחף מלהקת היהודים . \nהלהקה שמופיעה בטורים ברחבי העולם כבר קרוב לשלושה עשורים\, מחזיקה ב-27 שנות קריירה ועדיין בועטת יותר מתמיד.  אלבומיהם “Echo Mountain”\, “Cocoon Crash” “Paradise in Me”   “The Phantom Cowboy”\,   הגיעו לטופ 10 מספר פעמים. \nאלבומם "The Phantom Cowboy" הגיע למעמד זהב ופלטינה ולמקום הראשון בבלגיה. היא הוקמה ב-1992 ע"י האחים סאם (שרה) וגרט בטנס\, זמרי הלהקה. הפריצה הגדולה הגיעה ב-1995 עם יציאת השיר  ""Not An Addict שהפך ללהיט הגדול ביותר שלהם והביא אותם להצלחה בינלאומית. \nהשיר הגיע למקום החמישי במצעד הבילבורד. יותר משני עשורים חלפו מאז יציאתו והוא עדיין מתנגן בתחנות רדיו מרכזיות בעולם. שנה לאחר יציאת השיר\, הזמרת אלאניס ראתה את הלהקה מופיעה בפסטיבל באירופה והחליטה לצרף אותם לטור ההופעות שלה כמופע פותח. בתקופה זו אלאניס הייתה בשיא הצלחתה עם אלבומה הראשון. \nהשיר "Everything for Free" שיצא ב-1998 הוא אחד מלהיטי הרדיו וה-MTV הגדולים של הלהקה. הוא הגיע למקום ה-28 \nבמצעד הבילבורד והיה להיט גדול באירופה ובישראל. \nשירי הלהקה הופיעו בפסי-קול של מספר סרטים וסדרות. השיר "Virgin State Of Mind" בסדרה הפופולרית "באפי קוטלת הערפדים"\, All of This Past" " בסרט "מלחמת האופל" 2003 והשיר "Someone to say hi" בסרט Zus & Zo"". \nב-2017 הוציאו את "25" – אוסף שכולל את כל להיטיהם הגדולים\, וגרסה מחודשת ל‘Not An Addict’ שבה מתארח סקין מלהקת סקאנק אנאסי. \nב-2018 הוציאו אלבום לייב כפול מתוך הופעתם ב-""Ancienne Belgique האגדי בבריסל. האוספים האלה מתווספים ל-7 אלבומי סטודיו של הלהקה. \nחברי הלהקה: שרה בטנס (שירה וגיטרה)\, גרט בטנס (גיטרה\, קלידים ושירה)\, בארט ואן לירד (גיטרה בס)\, טום לודוויקס (גיטרה)\, ריינוט סווינן (קלידים)\, ווים ואן דר ווסטן (תופים) \n
URL:https://hangar11.co.il/events/event/ks-choice/
LOCATION:האנגר 11\, Israel
CATEGORIES:חו"ל
ATTACH;FMTTYPE=image/png:https://hangar11.co.il/events/wp-content/uploads/2019/10/1080X1080.png
GEO:32.0964756;34.7740091
END:VEVENT
END:VCALENDAR