BEGIN:VCALENDAR
VERSION:2.0
PRODID:-//האנגר 11 - ECPv4.9.10//NONSGML v1.0//EN
CALSCALE:GREGORIAN
METHOD:PUBLISH
X-WR-CALNAME:האנגר 11
X-ORIGINAL-URL:https://hangar11.co.il/events
X-WR-CALDESC:Events for האנגר 11
BEGIN:VTIMEZONE
TZID:Asia/Jerusalem
BEGIN:DAYLIGHT
TZOFFSETFROM:+0200
TZOFFSETTO:+0300
TZNAME:IDT
DTSTART:20170324T000000
END:DAYLIGHT
BEGIN:STANDARD
TZOFFSETFROM:+0300
TZOFFSETTO:+0200
TZNAME:IST
DTSTART:20171028T230000
END:STANDARD
END:VTIMEZONE
BEGIN:VEVENT
DTSTART;TZID=Asia/Jerusalem:20170622T220000
DTEND;TZID=Asia/Jerusalem:20170622T220000
DTSTAMP:20260419T213543
CREATED:20170522T100608Z
LAST-MODIFIED:20170909T143603Z
UID:1174-1498168800-1498168800@hangar11.co.il
SUMMARY:קותימאן אורקסטרה | J. views שני מופעים בערב אחד
DESCRIPTION:מנה כפולה של גרוב\nיונתן דגן וקותימאן\, שני היוצרים החדשניים שהפכו את הרשת למגרש המשחקים שלהם והגיעו למיליוני מאזינים ברחבי העולם\, בערב משותף חד פעמי  בהאנגר 11 אליו יגיעו עם  ההרכבים שלהם J.Views וקותימאן אורקסטרה. \n שני מופעי לייב בזה אחר זה\, מנה כפולה של גרוב  בהופעה שהופכת למסיבה!  \n
URL:https://hangar11.co.il/events/event/kutiman-jviews/
LOCATION:האנגר 11\, Israel
ATTACH;FMTTYPE=image/jpeg:https://hangar11.co.il/events/wp-content/uploads/2017/05/hangar11.jpg
GEO:32.0964756;34.7740091
END:VEVENT
END:VCALENDAR