BEGIN:VCALENDAR
VERSION:2.0
PRODID:-//האנגר 11 - ECPv4.9.10//NONSGML v1.0//EN
CALSCALE:GREGORIAN
METHOD:PUBLISH
X-WR-CALNAME:האנגר 11
X-ORIGINAL-URL:https://hangar11.co.il/events
X-WR-CALDESC:Events for האנגר 11
BEGIN:VTIMEZONE
TZID:Asia/Jerusalem
BEGIN:DAYLIGHT
TZOFFSETFROM:+0200
TZOFFSETTO:+0300
TZNAME:IDT
DTSTART:20190329T000000
END:DAYLIGHT
BEGIN:STANDARD
TZOFFSETFROM:+0300
TZOFFSETTO:+0200
TZNAME:IST
DTSTART:20191026T230000
END:STANDARD
END:VTIMEZONE
BEGIN:VEVENT
DTSTART;TZID=Asia/Jerusalem:20190410T103000
DTEND;TZID=Asia/Jerusalem:20190411T170000
DTSTAMP:20260420T145814
CREATED:20190319T161241Z
LAST-MODIFIED:20190406T073249Z
UID:3063-1554892200-1555002000@hangar11.co.il
SUMMARY:כנס NOAH19
DESCRIPTION:Connecting Israel’s Startups with Large Corporates and Investors\n\n\n\nTechnology deep dive with Israel’s hottest startups followed by networking reception. Your chance to meet Israel´s top Founders and Executives all at once! \n\n\n\nA highly exclusive\, hand-picked attendee list of ~1\,200 participants to optimally connect Israel’s hottest Start-ups with European Digital leaders. \n\n\n\nAmple opportunities to network with digital leaders – supported by dedicated\nnetworking events\, the NOAH Connect App and our Matchmaking functionality.\n\n\n\n\n
URL:https://hangar11.co.il/events/event/leaders-connected-noah19-tel-aviv/
LOCATION:האנגר 11\, Israel
CATEGORIES:הרצאה
ATTACH;FMTTYPE=image/jpeg:https://hangar11.co.il/events/wp-content/uploads/2019/03/noah19-compressor-e1554539357792.jpg
GEO:32.0964756;34.7740091
END:VEVENT
END:VCALENDAR