BEGIN:VCALENDAR
VERSION:2.0
PRODID:-//האנגר 11 - ECPv4.9.10//NONSGML v1.0//EN
CALSCALE:GREGORIAN
METHOD:PUBLISH
X-WR-CALNAME:האנגר 11
X-ORIGINAL-URL:https://hangar11.co.il/events
X-WR-CALDESC:Events for האנגר 11
BEGIN:VTIMEZONE
TZID:Asia/Jerusalem
BEGIN:DAYLIGHT
TZOFFSETFROM:+0200
TZOFFSETTO:+0300
TZNAME:IDT
DTSTART:20160325T000000
END:DAYLIGHT
BEGIN:STANDARD
TZOFFSETFROM:+0300
TZOFFSETTO:+0200
TZNAME:IST
DTSTART:20161029T230000
END:STANDARD
END:VTIMEZONE
BEGIN:VEVENT
DTSTART;TZID=Asia/Jerusalem:20160619T193000
DTEND;TZID=Asia/Jerusalem:20160619T220000
DTSTAMP:20260420T085946
CREATED:20160608T125209Z
LAST-MODIFIED:20160608T125209Z
UID:635-1466364600-1466373600@hangar11.co.il
SUMMARY:« Live Well » Event 2016
DESCRIPTION:« Live Well » Event 2016 \nAfter the fantastic success of the International Women day on March\, the Show Team Events ‘team is proud to invite \nyou to the event « Live Well » 2016 \nOn Sunday 19 June 2016\, for the very first time the Show Team Events bring in Israel more than 120 Israelis and \nFrench exhibitors on2000 m2 at the Namal Tel Aviv\, Hangar 11. Showcasing the most scientifically proven\, bespoke\, \nhealth and wellness products on the market to date\, the most innovative designer\, the newest beauty care \nproducts… \n“Live Well” keys numbers \n 20 french press cover \n 45  satisfied exhibitors during the International women day on March \n 100 social media French groups (Facebook/twitter/Instagram) \n + 120 exhibitors \n + 400 visitors presents during the International women day on March \n + 1000 visitors expected \n 2000 m2 in the most prestigious venue at the Namal Tel Aviv \nLeading topics \nWellness topics is appreciated and research by the French Customers in Israel \n– Body and spirits harmonisation \n– Keep in shave \n– Stress’s release \n– Discover the new beauty care \n– Create a career in the wellness industry \n120 wellness’s professionals’ exhibitors around 5 topics: \n– General wellness \n– living healthier and prevention \n– Be Well in your head \n– Be Well in your body \nSunday June 19\, 2016 from 10.00 to 22.00 (VIP cocktail 19.30 to 22.00) DJ Lauren C \nNamal Tel Aviv Hangar 11 \nEasy access: Bus\, Shirout\, Train\, Voiture (Parking attenants) \nEntrance fees : 30 Nis \nInformations / Registration : showteamevents@gmail.com Tel: 0547006012 \n
URL:https://hangar11.co.il/events/event/live-well-event-2016/
LOCATION:favicon
ATTACH;FMTTYPE=:
END:VEVENT
END:VCALENDAR