BEGIN:VCALENDAR
VERSION:2.0
PRODID:-//האנגר 11 - ECPv4.9.10//NONSGML v1.0//EN
CALSCALE:GREGORIAN
METHOD:PUBLISH
X-WR-CALNAME:האנגר 11
X-ORIGINAL-URL:https://hangar11.co.il/events
X-WR-CALDESC:Events for האנגר 11
BEGIN:VTIMEZONE
TZID:Asia/Jerusalem
BEGIN:DAYLIGHT
TZOFFSETFROM:+0200
TZOFFSETTO:+0300
TZNAME:IDT
DTSTART:20260327T000000
END:DAYLIGHT
BEGIN:STANDARD
TZOFFSETFROM:+0300
TZOFFSETTO:+0200
TZNAME:IST
DTSTART:20261024T230000
END:STANDARD
END:VTIMEZONE
BEGIN:VEVENT
DTSTART;TZID=Asia/Jerusalem:20260114T200000
DTEND;TZID=Asia/Jerusalem:20260114T200000
DTSTAMP:20260419T230748
CREATED:20251204T103845Z
LAST-MODIFIED:20251214T140024Z
UID:6685-1768420800-1768420800@hangar11.co.il
SUMMARY:Make-A-Wish Israel חוגגת 30
DESCRIPTION:עמותת Make-A-Wish Israel חוגגת 30 שנות פעילות מרגשות של הגשמת משאלות לילדים המתמודדים עם מחלות מסכנות חיים. \nהאירוע יתקיים בערב חגיגי ומעורר השראה ב־14 בינואר 2026\,  בשעה 20:00 בהאנגר 11 בתל אביב. \nבערב יופיעו מיטב אמני ישראל: \nנועה קירל\, סטטיק\, תמיר גרינברג\, סטפן וולארי חמאתי.\nעלות כרטיס: תרומה של 250 ₪ \n*ישיבה חופשית ללא סימון כיסאות. \n
URL:https://hangar11.co.il/events/event/make-a-wish-israel-%d7%97%d7%95%d7%92%d7%92%d7%aa-30/
LOCATION:האנגר 11\, Israel
CATEGORIES:מיינסטרים,פופ ישראלי
ATTACH;FMTTYPE=image/jpeg:https://hangar11.co.il/events/wp-content/uploads/2025/12/MAW-Celebrating30Years_19201080-10.jpg
GEO:32.0964756;34.7740091
END:VEVENT
END:VCALENDAR