BEGIN:VCALENDAR
VERSION:2.0
PRODID:-//האנגר 11 - ECPv4.9.10//NONSGML v1.0//EN
CALSCALE:GREGORIAN
METHOD:PUBLISH
X-WR-CALNAME:האנגר 11
X-ORIGINAL-URL:https://hangar11.co.il/events
X-WR-CALDESC:Events for האנגר 11
BEGIN:VTIMEZONE
TZID:Asia/Jerusalem
BEGIN:DAYLIGHT
TZOFFSETFROM:+0200
TZOFFSETTO:+0300
TZNAME:IDT
DTSTART:20200327T000000
END:DAYLIGHT
BEGIN:STANDARD
TZOFFSETFROM:+0300
TZOFFSETTO:+0200
TZNAME:IST
DTSTART:20201024T230000
END:STANDARD
END:VTIMEZONE
BEGIN:VEVENT
DTSTART;TZID=Asia/Jerusalem:20200116T230000
DTEND;TZID=Asia/Jerusalem:20200117T080000
DTSTAMP:20260420T132324
CREATED:20191204T150416Z
LAST-MODIFIED:20191223T153013Z
UID:3606-1579215600-1579248000@hangar11.co.il
SUMMARY:Migrena festival : Code 11 - Psychedelic Revolution
DESCRIPTION:\n\nהייתה לנו שנה שלמה של "שקט" שהיא מאוד רועשת יחסית לשנה שקטה. \nהפגנות\, מחאות\, מלחמות\, עמותות\, בחירות ועוד פעם בחירות \n אולי אפילו עוד פעם בחירות\, \nהרבה אירועים שהתבטלו והרבה אירועים שהתקיימו כנגד כל הסיכויים. \nואם כבר סיכויים אז מה הסיכויים שנחזור לת"א שנה שלישית ברציפות \n אחרי שנה מאתגרת שכזאת? \nאז כן שוב פעם גירד לנו\, כן שוב פעם לא עשינו מסיבה הרבה זמן \n [ייצא ככה היינו קצת עסוקים] \nוכן כנראה ששוב פעם אנחנו נגזים ונשלח אתכם להסתובב בנמל \n בעוטים להתבונן על הים התיכון. \nהמסיבה הנוכחית שלנו פותחת עשור חדש \n ולא סתם אחד כזה שעומד בפני מהפכה פסיכודלית של ממש \n ואנחנו נקח חלק מרכזי מאוד במהפכה הזאת ונתחיל כאן באירוע הזה : \n\n\n\n\n\n\n \n\n\nMigrena Festival : Code 11 –\n\n\nPsychedelic Revolution \n\n\n \n\n\n \n\n\n\n\n\nLine-up\n \nTBA – TBA – TBA – TBA \n\n\n\n\n\n\n\n\nעוד דברים שחשוב לדעת :\n\n\n* מחיר הכרטיס עומד כרגע על 120 ויעלה בהמשך\, מהרו להתכרטס.\n\n\n* האירוע מוגבל בכמות ואנחנו לא מתכוונים להכניס יותר מהכמות המותרת\, חשוב לנו המרחב האישי של כל אחד ואחת מכם ואנחנו רוצים שלכולם יהיה מקום לקפוץ ולפרוק את כל האנרגיה שיש לו או לה בגוף.\n\n\n* האירוע יחל ב22:00 וימשך עד 08:00 בבוקר – 10 שעות מלאות של פסיכדליה באפלה.\n\n\n-ההפקה ממליצה בחום להגיע סופר מוקדם – כדי להנות מכל התוכן שיש לערב שלנו להציע לכם.\n\n\n* ניתן לסגור שולחן באירוע במתחם VIP בתיאום מראש עם ההפקה ובכמות מצומצמת מאוד.\n\n\n* כניסה לאירוע מגיל 21 בלבד\, לא תתאפשר כניסה או רכישת כרטיס למי שטרם מלאו לו 21 .\n\n\n* לא תתאפשר כניסה עם חפצים חדים\, זכוכית\, שתיה מכל סוג\, בע"ח או ילדים .\n\n
URL:https://hangar11.co.il/events/event/migrena-festival-code-11-psychedelic-revolution/
LOCATION:האנגר 11\, Israel
CATEGORIES:מסיבה
ATTACH;FMTTYPE=image/jpeg:https://hangar11.co.il/events/wp-content/uploads/2019/12/Event.jpg
GEO:32.0964756;34.7740091
END:VEVENT
END:VCALENDAR