BEGIN:VCALENDAR
VERSION:2.0
PRODID:-//האנגר 11 - ECPv4.9.10//NONSGML v1.0//EN
CALSCALE:GREGORIAN
METHOD:PUBLISH
X-WR-CALNAME:האנגר 11
X-ORIGINAL-URL:https://hangar11.co.il/events
X-WR-CALDESC:Events for האנגר 11
BEGIN:VTIMEZONE
TZID:Asia/Jerusalem
BEGIN:DAYLIGHT
TZOFFSETFROM:+0200
TZOFFSETTO:+0300
TZNAME:IDT
DTSTART:20180323T000000
END:DAYLIGHT
BEGIN:STANDARD
TZOFFSETFROM:+0300
TZOFFSETTO:+0200
TZNAME:IST
DTSTART:20181027T230000
END:STANDARD
END:VTIMEZONE
BEGIN:VEVENT
DTSTART;TZID=Asia/Jerusalem:20181220T230000
DTEND;TZID=Asia/Jerusalem:20181220T230000
DTSTAMP:20260421T140413
CREATED:20181025T075304Z
LAST-MODIFIED:20181218T125313Z
UID:2708-1545346800-1545346800@hangar11.co.il
SUMMARY:Migrena Presents: Future Music
DESCRIPTION:The bad news is TIME Flies\nThe GOOD news is\, you're the PILOT !\n\nאז כמו שכולכם בטח מרגישים זמן זה משהו מאוד שברירי\,\nהוא חומק לנו מבין האצבעות\, הוא עובר בלי שאנחנו מרגישים\,\nתמיד חסר לנו ממנו ואין לאף אחד מספיק זמן לעשות הכל\,\nאם הייתה חנות שמוכרת זמן כולנו היינו לקוחות קבועים !\n\n \n   Migrena Festival : Future Music – 20.12.18 ||\n\n\nבזמנים בהם מהפכות קורות מידי יום\nוהעולם משתנה ומתקדם בכל רגע נתון\,\nהחלטנו להמשיך ולשמר את המסורת שלנו ואת הבשורה שאנו מביאים איתה ולסיים את שנת 2018 באווירה של איבוד תחושת הזמן למשך לילה אחד וניתוק מוחלט מהסביבה הנורמאלית.\nב20.12 נצא ללילה פסיכודאלי נוסף בליבה הפועם של העיר ללא הפסקה.\n\nמיגרנה מציגים בפניכם מוזיקה מהעתיד :\n              ? C҉A҉U҉T҉I҉O҉N ?\n\n\n❗ ❕ Future Music LineUp Ahead ❗ ❕\n
URL:https://hangar11.co.il/events/event/migrena-presents-future-music/
LOCATION:האנגר 11\, Israel
CATEGORIES:מסיבה
ATTACH;FMTTYPE=image/jpeg:https://hangar11.co.il/events/wp-content/uploads/2018/10/1e59b55a-5510-4369-bee8-59ea2caf3c20.jpg
GEO:32.0964756;34.7740091
END:VEVENT
END:VCALENDAR