BEGIN:VCALENDAR
VERSION:2.0
PRODID:-//האנגר 11 - ECPv4.9.10//NONSGML v1.0//EN
CALSCALE:GREGORIAN
METHOD:PUBLISH
X-WR-CALNAME:האנגר 11
X-ORIGINAL-URL:https://hangar11.co.il/events
X-WR-CALDESC:Events for האנגר 11
BEGIN:VTIMEZONE
TZID:Asia/Jerusalem
BEGIN:DAYLIGHT
TZOFFSETFROM:+0200
TZOFFSETTO:+0300
TZNAME:IDT
DTSTART:20180323T000000
END:DAYLIGHT
BEGIN:STANDARD
TZOFFSETFROM:+0300
TZOFFSETTO:+0200
TZNAME:IST
DTSTART:20181027T230000
END:STANDARD
END:VTIMEZONE
BEGIN:VEVENT
DTSTART;TZID=Asia/Jerusalem:20181208T180000
DTEND;TZID=Asia/Jerusalem:20181208T180000
DTSTAMP:20260421T152539
CREATED:20181105T112804Z
LAST-MODIFIED:20181125T081954Z
UID:2729-1544292000-1544292000@hangar11.co.il
SUMMARY:NEXTFEST המהפכה!
DESCRIPTION:
URL:https://hangar11.co.il/events/event/nextfest-%d7%94%d7%9e%d7%94%d7%a4%d7%9b%d7%94-3/
LOCATION:האנגר 11\, Israel
ATTACH;FMTTYPE=image/png:https://hangar11.co.il/events/wp-content/uploads/2018/11/Untitled.png
GEO:32.0964756;34.7740091
END:VEVENT
END:VCALENDAR