BEGIN:VCALENDAR
VERSION:2.0
PRODID:-//האנגר 11 - ECPv4.9.10//NONSGML v1.0//EN
CALSCALE:GREGORIAN
METHOD:PUBLISH
X-WR-CALNAME:האנגר 11
X-ORIGINAL-URL:https://hangar11.co.il/events
X-WR-CALDESC:Events for האנגר 11
BEGIN:VTIMEZONE
TZID:Asia/Jerusalem
BEGIN:DAYLIGHT
TZOFFSETFROM:+0200
TZOFFSETTO:+0300
TZNAME:IDT
DTSTART:20190329T000000
END:DAYLIGHT
BEGIN:STANDARD
TZOFFSETFROM:+0300
TZOFFSETTO:+0200
TZNAME:IST
DTSTART:20191026T230000
END:STANDARD
END:VTIMEZONE
BEGIN:VEVENT
DTSTART;TZID=Asia/Jerusalem:20191024T220000
DTEND;TZID=Asia/Jerusalem:20191024T220000
DTSTAMP:20260419T200040
CREATED:20191006T113809Z
LAST-MODIFIED:20191023T140959Z
UID:3312-1571954400-1571954400@hangar11.co.il
SUMMARY:PAOLA
DESCRIPTION:פאולה מופיעה על הבמות הכי גדולות ביוון לצד אומנים טובים אחרים לא פחות כגון סטמטיס גונידיס\,\nפגי זינה וניקולס אויקונומופולוס.\nמי שזכה לראותה בהופעה חיה\, ליבו החסיר פעימה מהאנרגיות\, החושניות והאהבה שיש לה להציע.\nמלבד קול עוצמתי \, לוק הורס ופלרטוט אין סופי עם הקהל יש לה להיטים שזכו לביצועים גם בארץ כמו :\n"אל תלך" של נסרין "לא יכול בלעדייך" של דודו אהרון ועוד… \nפאולה נולדה ב 25 ליוני 1982 בחלדיקי וגדלה בסלוניקי. היא החלה לשיר בגיל 14. בשנת 2005 יצא לאור\nאלבומה הראשון "שקט" \, הוא הכיל בתוכו דואט עם סוטיס וולינס הנקרא "סבא וסבתא" שזכה להצלחה רבה.\nבאותה שנה החלה להופיע לצידו של סטמטיס גונידיס באתונה.\nבשנת 2012 הוציאה את האלבום המשמעותי ביותר עבורה "M'AFISEIS" שהפך לזהב ובו המון להיטים.\nב-2013 הוציאה אלבום נוסף "I MONI ALITHIA" שרוב בשירים באלבום כיכבו בכל תחנות הרדיו של יוון.\nפאולה הפכה לסופרסטאר ביוון\, צלמי הפאפארצי אחריה בכל פינה וקהל רב ששבוי בקסמה עוקב אחרי הצלחתה. \n** לקוחות יקרים\, הזהרו מספסרות ברשת- אל תקנו מאתרי ספסרות אשר משקיעים כסף רב בפיתוי גולשים ומוכרים כרטיסים ללא כיסוי. לתשומת לבכם\, הרשות להגנת הצרכן מזהירה על רכישת כרטיסים מאתר Viagogo (ויה גוגו) עקב חוסר כיסוי וגביית עמלות מופרזת. לא תהיה כל אחריות לתוקפם של כרטיסים שאינם נרכשים באופן ישיר מאת המפיץ הראשי- קופת ת"א כרטיסים ומופעים בע"מ. ראו הוזהרתם! כרטיסים מזויפים או שמקורם אינו ידעו (ספסרות) לא יכובדו. \n
URL:https://hangar11.co.il/events/event/paola/
LOCATION:האנגר 11\, Israel
CATEGORIES:חו"ל,יווני
ATTACH;FMTTYPE=image/jpeg:https://hangar11.co.il/events/wp-content/uploads/2019/10/Untitled.jpg
GEO:32.0964756;34.7740091
END:VEVENT
END:VCALENDAR