BEGIN:VCALENDAR
VERSION:2.0
PRODID:-//האנגר 11 - ECPv4.9.10//NONSGML v1.0//EN
CALSCALE:GREGORIAN
METHOD:PUBLISH
X-WR-CALNAME:האנגר 11
X-ORIGINAL-URL:https://hangar11.co.il/events
X-WR-CALDESC:Events for האנגר 11
BEGIN:VTIMEZONE
TZID:Asia/Jerusalem
BEGIN:DAYLIGHT
TZOFFSETFROM:+0200
TZOFFSETTO:+0300
TZNAME:IDT
DTSTART:20180323T000000
END:DAYLIGHT
BEGIN:STANDARD
TZOFFSETFROM:+0300
TZOFFSETTO:+0200
TZNAME:IST
DTSTART:20181027T230000
END:STANDARD
END:VTIMEZONE
BEGIN:VEVENT
DTSTART;TZID=Asia/Jerusalem:20181216T210000
DTEND;TZID=Asia/Jerusalem:20181216T210000
DTSTAMP:20260421T195944
CREATED:20180903T062525Z
LAST-MODIFIED:20180903T062525Z
UID:2564-1544994000-1544994000@hangar11.co.il
SUMMARY:POSTMODERN JUKEBOX
DESCRIPTION:ההופעה שהיא תופעה עם למעלה ממיליארד (!!!) צפיות ביוטיוב ומיליוני מעריצים ברחבי העולם מגיעה בפעם הראשונה לישראל במסגרת סיבוב ההופעות העולמי החדש "The Black and White Tour". \nפוסטמודרן ג'וקבוקס\, קופסת הלהיטים הפוסט-מודרנית הידועה גם בשם PMJ נוסדה ב 2009 על ידי המוזיקאי סקוט בראדלי שהעלה גירסאות וינטאג' מפתיעות של להיטי התקופה ליוטיוב. ליידי גאגא\, ג'סטין ביבר\, ביונסה\, רדיוהד\, גאנז אנד רוזס\, מטאליקה\, בריטני ספירס\, אד שירן\, כולם זכו לגירסאות מעלפות בסגנונות עבר: סווינג\, שנות ה 50'\, ראגטיים\, מוטאון\, דו וופ ועוד מחווה לתקופה קסומה ותמימה. הגירסאות הפכו ללהיט והתפשטו כאש בשדה קוצים ברחבי העולם מה שהוביל לסיבובי הופעות עולמיים רבים ולהיסטריה של רכישות כרטיסים. ההצלחה הובילה להופעות בתוכנית Good Morning America\, למקומות הראשונים במצעדי הבילבורד ו iTunes ולכתבות חדשות ב NBC ו NPR.המופע של PMJ הוא חגיגת וינטאג' וסטייל עם תלבושות מרהיבות\, הרכב שכולל זמרי על\, תזמורת\, רקדני סטפס ושלל הפתעות מוזיקליות שהם מכינים במיוחד לקראת הביקור בישראל. \n
URL:https://hangar11.co.il/events/event/postmodern-jukebox/
LOCATION:האנגר 11\, Israel
CATEGORIES:חו"ל
ATTACH;FMTTYPE=image/jpeg:https://hangar11.co.il/events/wp-content/uploads/2018/09/Cover-Desktop-1024X300.jpg
GEO:32.0964756;34.7740091
END:VEVENT
END:VCALENDAR