BEGIN:VCALENDAR
VERSION:2.0
PRODID:-//האנגר 11 - ECPv4.9.10//NONSGML v1.0//EN
CALSCALE:GREGORIAN
METHOD:PUBLISH
X-WR-CALNAME:האנגר 11
X-ORIGINAL-URL:https://hangar11.co.il/events
X-WR-CALDESC:Events for האנגר 11
BEGIN:VTIMEZONE
TZID:Asia/Jerusalem
BEGIN:DAYLIGHT
TZOFFSETFROM:+0200
TZOFFSETTO:+0300
TZNAME:IDT
DTSTART:20150327T000000
END:DAYLIGHT
BEGIN:STANDARD
TZOFFSETFROM:+0300
TZOFFSETTO:+0200
TZNAME:IST
DTSTART:20151024T230000
END:STANDARD
END:VTIMEZONE
BEGIN:VEVENT
DTSTART;TZID=Asia/Jerusalem:20151110T200000
DTEND;TZID=Asia/Jerusalem:20151110T160000
DTSTAMP:20260421T035119
CREATED:20151016T083448Z
LAST-MODIFIED:20151016T083448Z
UID:584-1447185600-1447171200@hangar11.co.il
SUMMARY:SMOKIE
DESCRIPTION:על הבמה:\nMartin Bullard\nMick McConnell\nMike Craft\nSteve Pinnell\nTerry Uttley \n"Living Next Door to Alice"\n"Lay Back in the Arms of Someone"\n"If You Think You Know How to Love Me"\n"Needles and Pins" "I'll Meet You At Midnight" \nהם רק חלק מהלהיטים של: Smokie\, להקת הפופ הבריטית והפופולארית שזוכה להצלחה בינלאומית וכיכבה\nשבועות רבים במצעדי הפזמונים בעולם \nבמסגרת סיבוב הופעות בבריטניה וברחבי אירופה מגיעה לישראל Smokie\, אחת הלהקות הבריטיות\nהפופולאריות ביותר בעולם כיום \nנוהגים לייחס ללהקה את שיא ההצלחה בשנות ה-70\, בהן 11 מתוך 14\nהשירים שהוציאו לרדיו הפכו ללהיטים הגדולים של העשור ומזוהים עם\nהתקופה. מאז\, למעשה\, הפכה הלהקה לתופעה: ההצלחה הכבירה של\nSmokie המשיכה ושגשגה ברחבי הגלובוס בארבעת העשורים האחרונים ועד\nהיום\, בהם הופיעה אינספור פעמים ברחבי העולם והגיעה למעמד של\nמספר אלבומי פלטינה. \nבארסנל להיטי הלהקה נמצאים הלהיטים שכבשו את\nמצעדי הרדיו ברחבי העולם:\n"Living Next Door to Alice"\n"Lay Back in the Arms of Someone"\n"Don't Play Your Rock'n'Roll to me"\n"If You Think You Know How to Love Me\n"baby it's You"\,"It's Your Life"\n"Stumblin' in""Oh Carol"\nWild Wild Angels""\nועוד… \nהלהיטים שבין השאר סללו ללהקה את הדרך להצלחה ולהופעות בכל העולם. \nלאחר שמכרו למעלה מ-30 מיליון עותקים ברחבי העולם של אלבומיהם\,\nהפיקה הלהקה את אלבום הקאנטרי "Wild Horses"\, בהשקעה חסרת\nתקדים של רבע מיליון לירות שטרלינג\, מה שהקנה להם דריסת רגל בתחנות\nהרדיו בארה"ב. בעקבות הטרנד הלהקה הוציאה אלבומים נוספים שזכו\nלחיבוק חם ברחבי סקנדינביה\, וכיכבה במצעדים של דנמרק\, פינלנד\,\nנורבגיה ושבדיה ב-5 המקומות הראשונים וזכו לאלבום פלטינה כפול. \n
URL:https://hangar11.co.il/events/event/smokie/
LOCATION:favicon
ATTACH;FMTTYPE=:
END:VEVENT
END:VCALENDAR