BEGIN:VCALENDAR
VERSION:2.0
PRODID:-//האנגר 11 - ECPv4.9.10//NONSGML v1.0//EN
CALSCALE:GREGORIAN
METHOD:PUBLISH
X-WR-CALNAME:האנגר 11
X-ORIGINAL-URL:https://hangar11.co.il/events
X-WR-CALDESC:Events for האנגר 11
BEGIN:VTIMEZONE
TZID:Asia/Jerusalem
BEGIN:DAYLIGHT
TZOFFSETFROM:+0200
TZOFFSETTO:+0300
TZNAME:IDT
DTSTART:20160325T000000
END:DAYLIGHT
BEGIN:STANDARD
TZOFFSETFROM:+0300
TZOFFSETTO:+0200
TZNAME:IST
DTSTART:20161029T230000
END:STANDARD
END:VTIMEZONE
BEGIN:VEVENT
DTSTART;TZID=Asia/Jerusalem:20160323T220000
DTEND;TZID=Asia/Jerusalem:20160323T220000
DTSTAMP:20260420T024248
CREATED:20160315T182154Z
LAST-MODIFIED:20160315T182154Z
UID:620-1458770400-1458770400@hangar11.co.il
SUMMARY:Super Heroes Purim - מסיבת פורים - המכללה למנהל
DESCRIPTION:שנייה אחרי שסיימנו את המבחנים ורגע לפני שצוללים עמוק עמוק לסמסטר ב'! \nמי שהיה יודע…מי שלא היה… יגלה ב- 23.3! רק…תקנו כרטיסים\, לפני שיגמרו! \nהשנה המסיבה בסגנון גיבורי על…כדאי להתכונן עם התחפושות! \nרביעי || 23/03/2016 || האנגר 11|| פתיחת שערים 21:30 \nבמהלך הנשף תיערך תחרות תחפושות \n\nמקום I- טיסה לאירופה מתנת איסתא המכללה למנהל  \nמקום II- כרטיס גיפטקארד מתנת מועדון ההטבות UNIQ + ארוחה זוגית בוולף נייט – סניף יהודה מכבי. \nמקום III- ארוחה זוגית מפנקת בגראז' – אוכלים שותים. \nכל הבר במחירים מוזלים לאורך כל הערב!!!! \nעל המוזיקה:\n★♫★★♫★Or biton★♫★★♫★\n(Or Biton)\nGenre: Mainstream & HIP HOP \n★♫★★♫★Funkkeepers★♫★★♫★\n(Almog Blum vs. Ori Bsor)\nGenre: Indie Dance & Nu disco\, Soulful\nhttps://soundcloud.com/funkkeepers \n★♫★★♫★teamworx★♫★★♫★\n(Saar Lagziel vs. Ben Azoulay)\nGenre: Progressive House\nhttps://soundcloud.com/teamworxofficial \n★♫★★♫★bliss★♫★★♫★\nYonatan Bliss Marcow\nGenre: Power Trance/PsyTrance/Electronica\nhttps://soundcloud.com/blisslive \n✰מחיר הכרטיס הינו 55 ש"ח לסטודנט חבר אגודה וכניסה עימו מותנית בהצגת תעודת סטודנט. \n✰כל סטודנט חבר אגודה זכאי לרכוש עד 2 כרטיסי אורח ב-75 ש"ח כל אחד. \n✰ניתן לרכוש כרטיסים גם בטלפון: 03-9628930 שלוחה 0 \n✰מכירת הכרטיסים תתבצע במזכירות האגודה. המלאי מוגבל ומבוסס על כל הקודם זוכה!!\n \n
URL:https://hangar11.co.il/events/event/super-heroes-purim-%d7%9e%d7%a1%d7%99%d7%91%d7%aa-%d7%a4%d7%95%d7%a8%d7%99%d7%9d-%d7%94%d7%9e%d7%9b%d7%9c%d7%9c%d7%94-%d7%9c%d7%9e%d7%a0%d7%94%d7%9c/
LOCATION:favicon
ATTACH;FMTTYPE=:
END:VEVENT
END:VCALENDAR