BEGIN:VCALENDAR
VERSION:2.0
PRODID:-//האנגר 11 - ECPv4.9.10//NONSGML v1.0//EN
CALSCALE:GREGORIAN
METHOD:PUBLISH
X-WR-CALNAME:האנגר 11
X-ORIGINAL-URL:https://hangar11.co.il/events
X-WR-CALDESC:Events for האנגר 11
BEGIN:VTIMEZONE
TZID:Asia/Jerusalem
BEGIN:DAYLIGHT
TZOFFSETFROM:+0200
TZOFFSETTO:+0300
TZNAME:IDT
DTSTART:20180323T000000
END:DAYLIGHT
BEGIN:STANDARD
TZOFFSETFROM:+0300
TZOFFSETTO:+0200
TZNAME:IST
DTSTART:20181027T230000
END:STANDARD
END:VTIMEZONE
BEGIN:VEVENT
DTSTART;TZID=Asia/Jerusalem:20181222T213000
DTEND;TZID=Asia/Jerusalem:20181222T213000
DTSTAMP:20260421T140352
CREATED:20181008T104300Z
LAST-MODIFIED:20181220T143153Z
UID:2653-1545514200-1545514200@hangar11.co.il
SUMMARY:The Angelcy | האנג'לסי
DESCRIPTION:האנג'לסי – מופע השקה לאלבום החדש! \n  \n  \nהאנג'לסי\, להקת האינדי שפרצה לתודעה וללבבות של הקהל הרחב עם השיר "Dreamer" לפני שש שנים\, ושאלבום הבכורה שלה "Exit Inside" זכה להצלחה רבה וכלל גם את הלהיטים "My Baby Boy" ו-"The Call"\, משיקה אלבום חדש בהאנגר 11 בתל אביב. \nהלהקה\, שצמחה מהופעות בפסטיבלים אינדינגב ויערות מנשה עד לסיבובי הופעות מלאים בארץ ובאירופה (בשנת 2015 הלייבל הצרפתי Sony Jive Epic הפיץ את אלבום הבכורה בכל העולם) חוזרת עם אלבום חדש. עם הרכב מגובש מתמיד ויצירה משותפת\, תוצאה של אינטימיות מאלפי שעות נגינה וסיבובי הופעות ברחבי הארץ ואירופה\, האלבום החדש ממשיך את החיפוש של הלהקה אחרי מילים וצלילים שיבטאו בצורה מדויקת את רחשי ליבם ונפשם בעולם הכאוטי-מוזר-יפהפה-שמיימי בו אנו חיים. \nאורחים מיוחדים: נצ'י נצ'\, דניאלה ספקטור \n
URL:https://hangar11.co.il/events/event/the-angelcy-%d7%94%d7%90%d7%a0%d7%92%d7%9c%d7%a1%d7%99/
LOCATION:האנגר 11\, Israel
CATEGORIES:מיינסטרים,רוק ישראלי
ATTACH;FMTTYPE=image/jpeg:https://hangar11.co.il/events/wp-content/uploads/2018/10/1002-Ang-1900x800.jpg
GEO:32.0964756;34.7740091
END:VEVENT
END:VCALENDAR