BEGIN:VCALENDAR
VERSION:2.0
PRODID:-//האנגר 11 - ECPv4.9.10//NONSGML v1.0//EN
CALSCALE:GREGORIAN
METHOD:PUBLISH
X-WR-CALNAME:האנגר 11
X-ORIGINAL-URL:https://hangar11.co.il/events
X-WR-CALDESC:Events for האנגר 11
BEGIN:VTIMEZONE
TZID:Asia/Jerusalem
BEGIN:DAYLIGHT
TZOFFSETFROM:+0200
TZOFFSETTO:+0300
TZNAME:IDT
DTSTART:20170324T000000
END:DAYLIGHT
BEGIN:STANDARD
TZOFFSETFROM:+0300
TZOFFSETTO:+0200
TZNAME:IST
DTSTART:20171028T230000
END:STANDARD
END:VTIMEZONE
BEGIN:VEVENT
DTSTART;TZID=Asia/Jerusalem:20170316T203000
DTEND;TZID=Asia/Jerusalem:20170316T203000
DTSTAMP:20260419T214738
CREATED:20160924T075622Z
LAST-MODIFIED:20170214T154009Z
UID:464-1489696200-1489696200@hangar11.co.il
SUMMARY:THE ULTIMATE DAVID BOWIE EXPERIENCE
DESCRIPTION:בשורה למעריצים: "מופע דיוויד בואי" מגיע לתל אביב \nלאגדות מסוגו של דיוויד בואי\, עניינים פעוטים כמו מוות לא באמת מפריעות להמשיך להופיע בהצלחה מול המעריצים השרופים. בישראל ינחת בחורף הקרוב דיוויד ברייטון שהוכתר לאומן המחווה הטוב ביותר של בואי. הביקורות בעולם מפרגנות למופע: "מעטים היו שמים לב להבדל"\nרק תבואי. קהל המעריצים הישראלי של דיוויד בואי האגדי\, מקבל בפעם הראשונה הזדמנות לראות את המופע "The David Bowie Show"\, שמופק על ידי החקיין הטוב בעולם של דיוויד בואי – דיוויד ברייטון\, כשהוא מלווה במוזיקאים מהרמה הגבוהה ביותר. המופע יתקיים במרץ הקרוב בהאנגר 11 \n
URL:https://hangar11.co.il/events/event/the-ultimate-david-bowie-experience/
LOCATION:favicon
ATTACH;FMTTYPE=image/jpeg:https://hangar11.co.il/events/wp-content/uploads/2016/09/david_brighton_as_Bowie-1.jpg
END:VEVENT
END:VCALENDAR