BEGIN:VCALENDAR
VERSION:2.0
PRODID:-//האנגר 11 - ECPv4.9.10//NONSGML v1.0//EN
CALSCALE:GREGORIAN
METHOD:PUBLISH
X-WR-CALNAME:האנגר 11
X-ORIGINAL-URL:https://hangar11.co.il/events
X-WR-CALDESC:Events for האנגר 11
BEGIN:VTIMEZONE
TZID:Asia/Jerusalem
BEGIN:DAYLIGHT
TZOFFSETFROM:+0200
TZOFFSETTO:+0300
TZNAME:IDT
DTSTART:20210326T000000
END:DAYLIGHT
BEGIN:STANDARD
TZOFFSETFROM:+0300
TZOFFSETTO:+0200
TZNAME:IST
DTSTART:20211030T230000
END:STANDARD
END:VTIMEZONE
BEGIN:VEVENT
DTSTART;TZID=Asia/Jerusalem:20210621T210000
DTEND;TZID=Asia/Jerusalem:20210621T210000
DTSTAMP:20260420T052521
CREATED:20210609T154520Z
LAST-MODIFIED:20220215T105327Z
UID:4260-1624309200-1624309200@hangar11.co.il
SUMMARY:THE ULTIMATE QUEEN CELEBRATION ישיבה
DESCRIPTION:\n\nהופעת ענק\n\n\n\n\nמופע מחווה בינלאומי ללהקת קווין בהשתתפות הסולן מרק מרטל\n\n\n\n\nthe Ultimate Queen Marc Martel and Celebration\n\n\n\n\nמגיע לתל-אביב בפעם השניה !!!\nכרטיסים אחרונים!\n\n\n
URL:https://hangar11.co.il/events/event/the-ultimate-queen-celebration-%d7%99%d7%a9%d7%99%d7%91%d7%94/
LOCATION:האנגר 11\, יורדי הסירה 1\, תל אביב\, Israel
CATEGORIES:חו"ל,רוק
ATTACH;FMTTYPE=image/jpeg:https://hangar11.co.il/events/wp-content/uploads/2021/06/The-Ultimate-Queen-hangar-hangar-21-2-e1623931357525.jpg
END:VEVENT
END:VCALENDAR