BEGIN:VCALENDAR
VERSION:2.0
PRODID:-//האנגר 11 - ECPv4.9.10//NONSGML v1.0//EN
CALSCALE:GREGORIAN
METHOD:PUBLISH
X-WR-CALNAME:האנגר 11
X-ORIGINAL-URL:https://hangar11.co.il/events
X-WR-CALDESC:Events for האנגר 11
BEGIN:VTIMEZONE
TZID:Asia/Jerusalem
BEGIN:DAYLIGHT
TZOFFSETFROM:+0200
TZOFFSETTO:+0300
TZNAME:IDT
DTSTART:20190329T000000
END:DAYLIGHT
BEGIN:STANDARD
TZOFFSETFROM:+0300
TZOFFSETTO:+0200
TZNAME:IST
DTSTART:20191026T230000
END:STANDARD
END:VTIMEZONE
BEGIN:VEVENT
DTSTART;TZID=Asia/Jerusalem:20190417T223000
DTEND;TZID=Asia/Jerusalem:20190417T223000
DTSTAMP:20260420T090810
CREATED:20190404T141944Z
LAST-MODIFIED:20190417T161728Z
UID:3144-1555540200-1555540200@hangar11.co.il
SUMMARY:Ultimate Queen Celebration עם הסולן מרק מרטל - שולחנות VIP
DESCRIPTION:
URL:https://hangar11.co.il/events/event/ultimate-queen-celebration-%d7%a2%d7%9d-%d7%94%d7%a1%d7%95%d7%9c%d7%9f-%d7%9e%d7%a8%d7%a7-%d7%9e%d7%a8%d7%98%d7%9c-%d7%a9%d7%95%d7%9c%d7%97%d7%a0%d7%95%d7%aa-vip/
LOCATION:האנגר 11\, Israel
CATEGORIES:חו"ל
ATTACH;FMTTYPE=image/jpeg:https://hangar11.co.il/events/wp-content/uploads/2019/03/9d4e5d0511bc6d4acbebd5fbd558f374.jpg
GEO:32.0964756;34.7740091
END:VEVENT
END:VCALENDAR