BEGIN:VCALENDAR
VERSION:2.0
PRODID:-//האנגר 11 - ECPv4.9.10//NONSGML v1.0//EN
CALSCALE:GREGORIAN
METHOD:PUBLISH
X-WR-CALNAME:האנגר 11
X-ORIGINAL-URL:https://hangar11.co.il/events
X-WR-CALDESC:Events for האנגר 11
BEGIN:VTIMEZONE
TZID:Asia/Jerusalem
BEGIN:DAYLIGHT
TZOFFSETFROM:+0200
TZOFFSETTO:+0300
TZNAME:IDT
DTSTART:20220325T000000
END:DAYLIGHT
BEGIN:STANDARD
TZOFFSETFROM:+0300
TZOFFSETTO:+0200
TZNAME:IST
DTSTART:20221029T230000
END:STANDARD
END:VTIMEZONE
BEGIN:VEVENT
DTSTART;TZID=Asia/Jerusalem:20221112T220000
DTEND;TZID=Asia/Jerusalem:20221112T220000
DTSTAMP:20260419T155927
CREATED:20220808T131009Z
LAST-MODIFIED:20221109T131134Z
UID:4990-1668290400-1668290400@hangar11.co.il
SUMMARY:Xavier Rudd קסוויאר ראד
DESCRIPTION:אחרי שביקר לראשונה בישראל לפני 3 שנים\, לשני לילות בלתי נשכחים באמפי שוני מלא מפה מפה\, קסוויאר ראד\, חוזר לישראל והפעם להופעה אחת גדולה ומרגשת כחלק מהטור הבינלאומי הצפוף שלו\, בהאנגר 11\, בנמל העיר העברית הראשונה\, תל אביב – יפו. \nשנים שקסוויאר ראד נחשב לאחד המוזיקאים האוסטרלים הגדולים והמצליחים בכל הזמנים\,  הוא מגיע לכאן בפיק של הקריירה שלו\, כשהוא גולש על גל הצלחה אדיר עם הופעות מלאות באלפי מעריצים באינספור מקומות בכל רחבי העולם\, בזמן שהוא ממשיך לקצור שבחים מכל כיוון אפשרי וזוכה לאלבומי זהב ופלטינה. \nהמוזיקה שלו נוגעת במיליונים בזכות צליל ייחודי וטקסטים כנים ומרגשים שמבטאים את דרך חייו ועוסקים בחיים מודעים\, בערכים חברתיים וסביבתיים\, ברוחניות\, הומניות\, זכויות אדם בסיסיות\, אחדות ובמהות של הקיום שלנו כאן. \nאחרי שכבש כל פסגה אפשרית קסוויאר ממשיך להתעלות על כל הציפיות עם אלבומו האחרון 'Jan Juc Moon' אותו הוא ישיק בישראל כחלק מהטור העולמי. \nב – 12.11.2022 מוצאי שבת\, קסוויאר ראד והלהקה ינחתו כאן כחלק מהטור הבינלאומי הענק שלהם\, להופעה אחת גדולה ומרגשת ביותר בהאנגר 11 בנמל תל אביב. \nאל תפספסו את זה\,\nבואו להיות שם כשזה קורה.\nמכירת הכרטיסים בעיצומה\, התחלנו עם כמות מוגבלת של כרטיסים מוזלים ראשונים\, ממליצים להזדרז ולעדכן חברות וחברים. \n20:30 פתיחת דלתות\n21:00 מופעי פתיחה: Orka l Rotem Bar or (theAngelcy)\n22:00 הופעה – Xavier Rudd \n
URL:https://hangar11.co.il/events/event/xavier-rudd-%d7%a7%d7%a1%d7%95%d7%95%d7%99%d7%90%d7%a8-%d7%a8%d7%90%d7%93/
LOCATION:האנגר 11\, יורדי הסירה 1\, תל אביב\, Israel
CATEGORIES:חו"ל,מיינסטרים
ATTACH;FMTTYPE=image/jpeg:https://hangar11.co.il/events/wp-content/uploads/2022/08/קסוויאר.jpg
END:VEVENT
END:VCALENDAR