BEGIN:VCALENDAR
VERSION:2.0
PRODID:-//האנגר 11 - ECPv4.9.10//NONSGML v1.0//EN
CALSCALE:GREGORIAN
METHOD:PUBLISH
X-WR-CALNAME:האנגר 11
X-ORIGINAL-URL:https://hangar11.co.il/events
X-WR-CALDESC:Events for האנגר 11
BEGIN:VTIMEZONE
TZID:Asia/Jerusalem
BEGIN:DAYLIGHT
TZOFFSETFROM:+0200
TZOFFSETTO:+0300
TZNAME:IDT
DTSTART:20200327T000000
END:DAYLIGHT
BEGIN:STANDARD
TZOFFSETFROM:+0300
TZOFFSETTO:+0200
TZNAME:IST
DTSTART:20201024T230000
END:STANDARD
END:VTIMEZONE
BEGIN:VEVENT
DTSTART;TZID=Asia/Jerusalem:20200527T220000
DTEND;TZID=Asia/Jerusalem:20200527T220000
DTSTAMP:20260426T020237
CREATED:20200227T101725Z
LAST-MODIFIED:20220215T104659Z
UID:4175-1590616800-1590616800@hangar11.co.il
SUMMARY:Dalit Rechester
DESCRIPTION:הנשף של דלית רצ'שטר חוזר בפעם השלישית! \nאין בית בישראל שלא מכיר את הקול של דלית רצ'שטר\, השדרנית המובילה של תחנת הרדיו גלגל"צ שמשדרת תוכנית יומית בעריכתה ואת כל המצעדים בתחנה למעלה מעשור.ואין מי שלא מכיר את ה – DJ והמפיקה המוסיקלית דלית רצ'שטר – הכי מבוקשת בתעשייה כיום ומי שמככבת במאות אירועים ומסיבות במועדונים ופסטיבלים בארץ ובעולם. \nהיא הובילה את מסיבת הפורים הגדולה בישראל – 100\,000 איש בכיכר המדינה\, בריטני ספירס הזמינה אותה לפתוח את הופעתה בפארק הירקון\, וכך גם עוד אמנים בינלאומיים ענקיים אחרים כמו הבקסטריט בויז\, הארדוול ואחרים. \nהיא אחראית על הפקת רמיקסים מצליחים של האמנים המובילים בישראל\, ועכשיו  אחרי שנים של עשייה מוסיקלית ענפה  \nרצ'שטר מציגה את הדבר הבא ! \nהנשף. מסיבה משוגעת באווירה לוהטת\, עם אורחים מפתיעים\, במה מיוחדת שעוצבה עבורה\, עם מופע תאורה ו – VJ ברמות הגבוהות ביותר. \nודלית ? דלית מביאה את דמותה העוצמתית\, ממכרת\, לוהטת ומלהיטה\, ועפה איתכם על הבמה עם הכישרון המכשף שלה\, כפי שלא ראיתם אותה עד היום. \nהנשף הראשון והנשף השני היו SOLD OUT – אל תישארו בחוץ בשלישי…. \n
URL:https://hangar11.co.il/events/event/dalit-rechester/
LOCATION:האנגר 11\, יורדי הסירה 1\, תל אביב\, Israel
CATEGORIES:מיינסטרים,מסיבה
ATTACH;FMTTYPE=image/jpeg:https://hangar11.co.il/events/wp-content/uploads/2020/02/dalit3-400x300.jpg
END:VEVENT
END:VCALENDAR