BEGIN:VCALENDAR
VERSION:2.0
PRODID:-//האנגר 11 - ECPv4.9.10//NONSGML v1.0//EN
CALSCALE:GREGORIAN
METHOD:PUBLISH
X-WR-CALNAME:האנגר 11
X-ORIGINAL-URL:https://hangar11.co.il/events
X-WR-CALDESC:Events for האנגר 11
BEGIN:VTIMEZONE
TZID:Asia/Jerusalem
BEGIN:DAYLIGHT
TZOFFSETFROM:+0200
TZOFFSETTO:+0300
TZNAME:IDT
DTSTART:20200327T000000
END:DAYLIGHT
BEGIN:STANDARD
TZOFFSETFROM:+0300
TZOFFSETTO:+0200
TZNAME:IST
DTSTART:20201024T230000
END:STANDARD
END:VTIMEZONE
BEGIN:VEVENT
DTSTART;TZID=Asia/Jerusalem:20200908T210000
DTEND;TZID=Asia/Jerusalem:20200908T210000
DTSTAMP:20260425T163908
CREATED:20200825T131005Z
LAST-MODIFIED:20200825T141812Z
UID:4232-1599598800-1599598800@hangar11.co.il
SUMMARY:ד"ר צחי בן ציון \,במופע זום חד פעמי!
DESCRIPTION:ד"ר בן ציון המצליח בזכות כישרון קומי מופלא לתרגם ולהעביר מסרים חשובים לקהל ממצבים שכיחים ומביכים בחיי זוגיות וחדר המיטות חוזר עם מופע זום חד פעמי\nבזמן קורונה\, כשהרבה מהדברים שמשמחים אותנו סגורים וכשנמצאים יותר בבית ופחות מבלים\, הבית מלא בילדים וקשה למצוא זמן לאינטימיות\, זה בדיוק הזמן למופע סטנד אפ שישכיב אתכם מצחוק ועל הדרך ילמד אתכם איך לשמור על האינטימיות והניצוץ. המופע של ד"ר צחי בן ציון מעודכן בדוגמאות למצבים שכיחים של זוגיות בתקופת קורונה ייערך לראשונה בזום ויביא לכם ישירות הביתה תכנים אקטואליים הקשורים לזוגיות ומיניות גם בתקופה זו.\nד"ר יצחק (צחי) בן ציון \,רופא\, פסיכיאטר וסקסולוג. משמש כפסיכיאטר הראשי של מחוז דרום של שירותי בריאות כללית וכמנהל המרפאה לבריאות מינית במרכז הרפואי האוניברסיטאי "סורוקה" לנגב. בעבר כיהן כסגן-מנהל המרכז הרפואי האוניברסיטאי סורוקה וכפסיכיאטר הראשי של קופת נבחר בן ציון לאחד ממאה 2020 והשנה ב 2014-15 חולים לאומית. מתנדב ב'איחוד הצלה'. בשנים הרופאים הטובים בישראל מטעם מגזין 'פורבס'.\n
URL:https://hangar11.co.il/events/event/%d7%93%d7%a8-%d7%a6%d7%97%d7%99-%d7%91%d7%9f-%d7%a6%d7%99%d7%95%d7%9f-%d7%91%d7%9e%d7%95%d7%a4%d7%a2-%d7%96%d7%95%d7%9d-%d7%97%d7%93-%d7%a4%d7%a2%d7%9e%d7%99/
LOCATION:Israel
CATEGORIES:צחי בן ציון
ATTACH;FMTTYPE=image/png:https://hangar11.co.il/events/wp-content/uploads/2020/08/standup-2-002.png
END:VEVENT
END:VCALENDAR